BEGIN:VCALENDAR
VERSION:2.0
PRODID:-//Universo Fresia Castro - ECPv6.15.20//NONSGML v1.0//EN
CALSCALE:GREGORIAN
METHOD:PUBLISH
X-ORIGINAL-URL:https://fresiacastro.cl
X-WR-CALDESC:Eventos para Universo Fresia Castro
REFRESH-INTERVAL;VALUE=DURATION:PT1H
X-Robots-Tag:noindex
X-PUBLISHED-TTL:PT1H
BEGIN:VTIMEZONE
TZID:America/Santiago
BEGIN:STANDARD
TZOFFSETFROM:-0300
TZOFFSETTO:-0400
TZNAME:-04
DTSTART:20220403T030000
END:STANDARD
BEGIN:DAYLIGHT
TZOFFSETFROM:-0400
TZOFFSETTO:-0300
TZNAME:-03
DTSTART:20220911T040000
END:DAYLIGHT
BEGIN:STANDARD
TZOFFSETFROM:-0300
TZOFFSETTO:-0400
TZNAME:-04
DTSTART:20230402T030000
END:STANDARD
BEGIN:DAYLIGHT
TZOFFSETFROM:-0400
TZOFFSETTO:-0300
TZNAME:-03
DTSTART:20230903T040000
END:DAYLIGHT
BEGIN:STANDARD
TZOFFSETFROM:-0300
TZOFFSETTO:-0400
TZNAME:-04
DTSTART:20240407T030000
END:STANDARD
BEGIN:DAYLIGHT
TZOFFSETFROM:-0400
TZOFFSETTO:-0300
TZNAME:-03
DTSTART:20240908T040000
END:DAYLIGHT
END:VTIMEZONE
BEGIN:VEVENT
DTSTART;VALUE=DATE:20231202
DTEND;VALUE=DATE:20231204
DTSTAMP:20260424T113806
CREATED:20230815T230859Z
LAST-MODIFIED:20231108T202814Z
UID:10000185-1701475200-1701647999@fresiacastro.cl
SUMMARY:La Opulencia: El Próximo Paso con Enzo Arias
DESCRIPTION:La Opulencia se enseña como una herramienta práctica para HOY. La oportunidad de manifestar cada día mayor abundancia en Tu Vida. La ausencia de la necesidad.\nNunca has estado más cerca de vivir sin sobresaltos\, y ante la oportunidad de contar con las condiciones óptimas para una vida plena. Este taller te provee de herramientas para ello. \nDESCRIPCIÓN\nLa ley de precipitación esta al alcance de nuestra mano; conocer las claves de su aplicación es tema de este taller. La espiral y el laberinto son herramientas que apoyaran la destreza de la auto maestría. Así mismo aprenderás a ensoñar\, principio activo de la precipitación a la forma física. \nEn la medida en que conozcas las claves esenciales que permitirán este cambio armónico y las pongas en práctica\, tendrás las respuestas que te darán la completa seguridad de que es posible la opulencia. \nLas propias condiciones en que el hombre se encuentra hoy\, ha liberado estas claves originales que darán la respuesta de la relación armónica del ser con su hábitat\, como reacción natural de acuerdo a las leyes inmutables de equilibrio\, que rigen nuestro sistema. \n[vc_message message_box_style=”solid-icon” message_box_color=”purple”]Requisito: Seminario de Activación Interna de la Glándula Pineal[/vc_message]
URL:https://fresiacastro.cl/evento/la-opulencia-el-proximo-paso-5/
LOCATION:Online\, Chile\, Chile
CATEGORIES:Online
ATTACH;FMTTYPE=image/jpeg:https://fresiacastro.cl/wp-content/uploads/2023/08/INSTRUCTORENZO.jpg
ORGANIZER;CN="Enzo Arias":MAILTO:Info@turegresoalorigen.com
END:VEVENT
BEGIN:VEVENT
DTSTART;VALUE=DATE:20231202
DTEND;VALUE=DATE:20231204
DTSTAMP:20260424T113806
CREATED:20230830T173938Z
LAST-MODIFIED:20231108T202726Z
UID:10000198-1701475200-1701647999@fresiacastro.cl
SUMMARY:Seminario de Activación Interna de la Glándula Pineal con Ana María Flores Gramunt
DESCRIPTION:DESCRIPCIÓN\nEl Seminario de Activación Interna de la Glándula Pineal entrega al participante las bases para activar definitivamente su glándula pineal\, y obtener los beneficios del Método Cyclopea. \nLos asistentes son dotados de información fundamental para la recuperación de conceptos que se encuentran en la memoria celular\, además de entregar las herramientas y claves que prepararan la activación del programa y el acceso a los niveles de creación superior y de transformación creativa. \nDIRIGIDO A:\n\nProfesionales\nArtistas\nEmpresarios\nEstudiantes\nAmas de casa\nRepresentantes de organismos internacionales\nDe gobierno\n\nY a toda aquella persona que busca la auto-maestría\,\nel desarrollo humano y la expansión de la consciencia.
URL:https://fresiacastro.cl/evento/seminario-de-activacion-interna-de-la-glandula-pineal-75/
LOCATION:Online\, Chile\, Chile
CATEGORIES:Online
ATTACH;FMTTYPE=image/jpeg:https://fresiacastro.cl/wp-content/uploads/2023/08/ANAMARIAFLORESGRAMUNT.jpg
ORGANIZER;CN="Ana Mar%C3%ADa Flores Gramunt":MAILTO:anitamaria.flores.gramunt@gmail.com
END:VEVENT
BEGIN:VEVENT
DTSTART;VALUE=DATE:20231202
DTEND;VALUE=DATE:20231204
DTSTAMP:20260424T113806
CREATED:20230831T145029Z
LAST-MODIFIED:20231108T202110Z
UID:10000203-1701475200-1701647999@fresiacastro.cl
SUMMARY:Todos parten\, ¿Podemos quedarnos? con Maritza Rodríguez
DESCRIPTION:“El último enemigo a vencer es la muerte” dijo Jesús. \nA través de este Taller\, nos vamos interiorizando cada vez más en un tema que para tantos seres resulta ser un tabú\, la muerte y sus dinámicas asociadas\, cómo es que ignoramos la gran oportunidad que se nos presenta en estos tiempos\, cómo podemos liberarnos definitivamente de los miedos y la ignorancia que le hemos asociado. \nDESCRIPCIÓN\n“Todos parten\, ¿Podemos quedarnos?” \nLa Caja atómica y los 7 niveles de interacción creativa\nLa memoria del origen y el gran trauma llamado “Muerte”.\nPrograma de defensa y el miedo al trauma original.\nDiferentes formas de salidas y entradas del escenario creativo.\nEstados devachánicos\, la reencarnación y la Ascensión. \n[vc_message message_box_style=”solid-icon” message_box_color=”purple”]Requisito: Seminario de Activación Interna de la Glándula Pineal[/vc_message]
URL:https://fresiacastro.cl/evento/todos-parten-podemos-quedarnos-3/
LOCATION:Online\, Venezuela\, Venezuela
CATEGORIES:Online
ATTACH;FMTTYPE=image/jpeg:https://fresiacastro.cl/wp-content/uploads/2023/08/INSTRUCTORAMARITZARODRIGUEZ.jpg
ORGANIZER;CN="Maritza Rodr%C3%ADguez":MAILTO:maritza@metodopineal.net
END:VEVENT
BEGIN:VEVENT
DTSTART;VALUE=DATE:20231202
DTEND;VALUE=DATE:20231204
DTSTAMP:20260424T113806
CREATED:20231117T190310Z
LAST-MODIFIED:20231117T190310Z
UID:10000212-1701475200-1701647999@fresiacastro.cl
SUMMARY:Seminario de Activación Interna de la Glándula Pineal con Claudia Rojas Cofré
DESCRIPTION:DESCRIPCIÓN\nEl Seminario de Activación Interna de la Glándula Pineal entrega al participante las bases para activar definitivamente su glándula pineal\, y obtener los beneficios del Método Cyclopea. \nLos asistentes son dotados de información fundamental para la recuperación de conceptos que se encuentran en la memoria celular\, además de entregar las herramientas y claves que prepararan la activación del programa y el acceso a los niveles de creación superior y de transformación creativa. \nDIRIGIDO A:\n\nProfesionales\nArtistas\nEmpresarios\nEstudiantes\nAmas de casa\nRepresentantes de organismos internacionales\nDe gobierno\n\nY a toda aquella persona que busca la auto-maestría\,\nel desarrollo humano y la expansión de la consciencia.
URL:https://fresiacastro.cl/evento/seminario-de-activacion-interna-de-la-glandula-pineal-claudia/
LOCATION:ONLINE
CATEGORIES:Chile,Online
ATTACH;FMTTYPE=image/jpeg:https://fresiacastro.cl/wp-content/uploads/2023/11/CLAUDIAROJAS.jpg
ORGANIZER;CN="Claudia Rojas Cofr%C3%A9":MAILTO:tuinfinitocreador@gmail.com
END:VEVENT
BEGIN:VEVENT
DTSTART;VALUE=DATE:20231206
DTEND;VALUE=DATE:20231209
DTSTAMP:20260424T113806
CREATED:20230215T203929Z
LAST-MODIFIED:20231108T041812Z
UID:10000172-1701820800-1702079999@fresiacastro.cl
SUMMARY:Seminario de Activación Interna de la Glándula Pineal con Karla Medina
DESCRIPTION:DESCRIPCIÓN\nEl Seminario de Activación Interna de la Glándula Pineal entrega al participante las bases para activar definitivamente su glándula pineal\, y obtener los beneficios del Método Cyclopea. \nLos asistentes son dotados de información fundamental para la recuperación de conceptos que se encuentran en la memoria celular\, además de entregar las herramientas y claves que prepararan la activación del programa y el acceso a los niveles de creación superior y de transformación creativa. \nDIRIGIDO A:\n\nProfesionales\nArtistas\nEmpresarios\nEstudiantes\nAmas de casa\nRepresentantes de organismos internacionales\nDe gobierno\n\nY a toda aquella persona que busca la auto-maestría\,\nel desarrollo humano y la expansión de la consciencia.
URL:https://fresiacastro.cl/evento/seminario-de-activacion-interna-de-la-glandula-pineal-73/
LOCATION:Online\, México\, Mexico
CATEGORIES:Online
ATTACH;FMTTYPE=image/jpeg:https://fresiacastro.cl/wp-content/uploads/2023/02/KARLAMEDINA.jpg
ORGANIZER;CN="Karla Medina":MAILTO:conexion.pineal.mundo@gmail.com
END:VEVENT
BEGIN:VEVENT
DTSTART;VALUE=DATE:20231209
DTEND;VALUE=DATE:20231211
DTSTAMP:20260424T113806
CREATED:20230824T174928Z
LAST-MODIFIED:20231201T001625Z
UID:10000192-1702080000-1702252799@fresiacastro.cl
SUMMARY:Seminario de Activación Interna de la Glándula Pineal con Patricia Piña Oyarzun
DESCRIPTION:[vc_row full_width=”stretch_row” overlay_dotted=”true” css=”.vc_custom_1579210890751{margin-top: 20px !important;padding-top: 20px !important;padding-bottom: 20px !important;background-color: #f2eaff !important;}” overlay_color=”#dbdbdb”][vc_column][vc_row_inner][vc_column_inner]DESCRIPCIÓN[vc_column_text]El Seminario de Activación Interna de la Glándula Pineal entrega al participante las bases para activar definitivamente su glándula pineal\, y obtener los beneficios del Método Cyclopea. Los asistentes son dotados de información fundamental para la recuperación de conceptos que se encuentran en la memoria celular\, además de entregar las herramientas y claves que prepararan la activación del programa y el acceso a los niveles de creación superior y de transformación creativa.[/vc_column_text]DIRIGIDO A:ProfesionalesArtistas Empresarios Estudiantes Amas de casa Representantes de organismos internacionales  De gobierno  [/vc_column_inner][/vc_row_inner]Y a toda aquella persona que busca l la auto-maestría\, el desarrollo humano y la expansión de la consciencia.[/vc_column][/vc_row][vc_row overlay_dotted=”” css=”.vc_custom_1579213139935{margin-top: 100px !important;margin-bottom: 100px !important;}”][vc_column][vc_column_text] \nDESCRIPCIÓN DE LOS MÓDULOS\nLos asistentes son dotados de información fundamental para la recuperación de conceptos que se encuentran en la memoria celular\, además de entregar las herramientas y claves que prepararan la activación del programa y el acceso a los niveles de creación superior y de transformación creativa.[/vc_column_text]Primer Módulo[vc_column_text]Tiene un carácter teórico\, en donde el participante recibe una gran cantidad de información necesaria para el desarrollo de las experiencias prácticas dentro del taller. El objetivo de esta etapa es despertar al sabio sobre el intelecto\, introduciendo al participante a su memoria origen. \n\nIntroducción\nCambio de Switch\nQuiénes Somos\nMemoria humanidad v/s memoria del Origen\nConcepto de campo vibratorio atómico\nNecesidad de cambio de paradigma creativo\nActo Creativo y la Red Creativa Humanidad\nElevación del potencial del Equipo\nDispersión y unidad creativa\nGlándula pineal\nEmbudo Creativo\nAtención y aceptación.\nActivación de la Glándula Pineal\, Método Cyclopea (ejercicio)\n\n[/vc_column_text]Segundo Módulo[vc_column_text]Comprende el “Mapa de Ruta”\, que es un auto-diagnóstico energético respecto a la situación actual del participante para identificar los nudos creativos y de cómo han influido en sus resultados\, para luego proceder a su armonización y corrección; cuyos efectos pueden ser percibidos rápidamente.[/vc_column_text]Tercer Módulo[vc_column_text]Comprende la “Aplicación de la Pineal como Capacidad Sinestesica” a través de una dinámica de avance\, que permite a los sentidos físicos entrenarse hacia una experiencia creativa de acceso superior\, mediante la entrada a campos de comprensión que van más allá del 10% del uso cerebral o capacidad creativa\, y sus distintos usos específicos. Con estos ejercicios se define en permanencia un pasadizo de comunicación sensorial consciente disponible a los campos de transferencia de los modelos de perfección. Al finalizar las experiencias contenidas en este Método CYCLOPEA de activación interna de la glándula pineal\, el participante habrá adquirido herramientas trascendentales para su vida\, además de haber experimentado lo que se conoce como “cambios cuánticos” (no medibles) que serán el motor de su nuevo patrón creativo benéfico\, influyendo en sí mismo\, su entorno y el medioambiente. Al finalizar el Curso los participantes recibirán el día Lunes siguiente un mail de Bienvenida con audios relatados por la creadora del método\, Fresia Castro\, con el ejercicio de activación.[/vc_column_text][/vc_column][/vc_row]
URL:https://fresiacastro.cl/evento/seminario-de-activacion-con-patricia-pina/
LOCATION:Online\, Chile\, Chile
CATEGORIES:Online
ATTACH;FMTTYPE=image/jpeg:https://fresiacastro.cl/wp-content/uploads/2023/08/PATRICIAPINA_2.jpg
ORGANIZER;CN="Patricia Pi%C3%B1a Oyarzun":MAILTO:activandopinealesporelmundo@gmail.com
END:VEVENT
BEGIN:VEVENT
DTSTART;VALUE=DATE:20231209
DTEND;VALUE=DATE:20231211
DTSTAMP:20260424T113806
CREATED:20230828T135304Z
LAST-MODIFIED:20231108T195718Z
UID:10000193-1702080000-1702252799@fresiacastro.cl
SUMMARY:Seminario de Activación Interna de la Glándula Pineal con Yiseth Caicedo
DESCRIPTION:DESCRIPCIÓN\nEl Seminario de Activación Interna de la Glándula Pineal entrega al participante las bases para activar definitivamente su glándula pineal\, y obtener los beneficios del Método Cyclopea. \nLos asistentes son dotados de información fundamental para la recuperación de conceptos que se encuentran en la memoria celular\, además de entregar las herramientas y claves que prepararan la activación del programa y el acceso a los niveles de creación superior y de transformación creativa. \nDIRIGIDO A:\n\nProfesionales\nArtistas\nEmpresarios\nEstudiantes\nAmas de casa\nRepresentantes de organismos internacionales\nDe gobierno\n\nY a toda aquella persona que busca la auto-maestría\,\nel desarrollo humano y la expansión de la consciencia.
URL:https://fresiacastro.cl/evento/seminario-de-activacion-interna-de-la-glandula-pineal-112/
LOCATION:Online\, Colombia\, Colombia
CATEGORIES:Online
ATTACH;FMTTYPE=image/jpeg:https://fresiacastro.cl/wp-content/uploads/2023/08/YISETHCAICEDO.jpg
ORGANIZER;CN="Yiseth Caicedo":MAILTO:yiseth@alkimistika.com
END:VEVENT
BEGIN:VEVENT
DTSTART;VALUE=DATE:20231216
DTEND;VALUE=DATE:20231218
DTSTAMP:20260424T113806
CREATED:20230215T203809Z
LAST-MODIFIED:20231214T153629Z
UID:10000171-1702684800-1702857599@fresiacastro.cl
SUMMARY:Seminario Solidario de Activación Interna de la Glándula Pineal con Karla Medina Online
DESCRIPTION:DESCRIPCIÓN\nEl Seminario de Activación Interna de la Glándula Pineal entrega al participante las bases para activar definitivamente su glándula pineal\, y obtener los beneficios del Método Cyclopea. \nLos asistentes son dotados de información fundamental para la recuperación de conceptos que se encuentran en la memoria celular\, además de entregar las herramientas y claves que prepararan la activación del programa y el acceso a los niveles de creación superior y de transformación creativa. \nDIRIGIDO A:\n\nProfesionales\nArtistas\nEmpresarios\nEstudiantes\nAmas de casa\nRepresentantes de organismos internacionales\nDe gobierno\n\nY a toda aquella persona que busca la auto-maestría\,\nel desarrollo humano y la expansión de la consciencia.
URL:https://fresiacastro.cl/evento/seminario-de-activacion-interna-de-la-glandula-pineal-62/
LOCATION:Online\, México\, Mexico
CATEGORIES:México,Online
ATTACH;FMTTYPE=image/jpeg:https://fresiacastro.cl/wp-content/uploads/2023/02/KARLAMEDINA.jpg
ORGANIZER;CN="Karla Medina":MAILTO:conexion.pineal.mundo@gmail.com
END:VEVENT
BEGIN:VEVENT
DTSTART;VALUE=DATE:20231216
DTEND;VALUE=DATE:20231218
DTSTAMP:20260424T113806
CREATED:20230716T231758Z
LAST-MODIFIED:20231108T040727Z
UID:10000183-1702684800-1702857599@fresiacastro.cl
SUMMARY:Seminario de Activación Interna de la Glándula Pineal con Concepción Suarez
DESCRIPTION:DESCRIPCIÓN\nEl Seminario de Activación Interna de la Glándula Pineal entrega al participante las bases para activar definitivamente su glándula pineal\, y obtener los beneficios del Método Cyclopea. \nLos asistentes son dotados de información fundamental para la recuperación de conceptos que se encuentran en la memoria celular\, además de entregar las herramientas y claves que prepararan la activación del programa y el acceso a los niveles de creación superior y de transformación creativa. \nDIRIGIDO A:\n\nProfesionales\nArtistas\nEmpresarios\nEstudiantes\nAmas de casa\nRepresentantes de organismos internacionales\nDe gobierno\n\nY a toda aquella persona que busca la auto-maestría\,\nel desarrollo humano y la expansión de la consciencia.
URL:https://fresiacastro.cl/evento/seminario-de-activacion-interna-de-la-glandula-pineal-92/
LOCATION:Online\, España\, Spain
CATEGORIES:Online
ATTACH;FMTTYPE=image/jpeg:https://fresiacastro.cl/wp-content/uploads/2023/07/CONCEPCIONSUAREZ.jpg
ORGANIZER;CN="Concepci%C3%B3n Suarez":MAILTO:info@tukairos.com
END:VEVENT
BEGIN:VEVENT
DTSTART;VALUE=DATE:20231216
DTEND;VALUE=DATE:20231218
DTSTAMP:20260424T113806
CREATED:20230824T173751Z
LAST-MODIFIED:20231108T040655Z
UID:10000189-1702684800-1702857599@fresiacastro.cl
SUMMARY:Seminario de Activación Interna de la Glándula Pineal con Ina Luchsinger
DESCRIPTION:DESCRIPCIÓN\nEl Seminario de Activación Interna de la Glándula Pineal entrega al participante las bases para activar definitivamente su glándula pineal\, y obtener los beneficios del Método Cyclopea. \nLos asistentes son dotados de información fundamental para la recuperación de conceptos que se encuentran en la memoria celular\, además de entregar las herramientas y claves que prepararan la activación del programa y el acceso a los niveles de creación superior y de transformación creativa. \nDIRIGIDO A:\n\nProfesionales\nArtistas\nEmpresarios\nEstudiantes\nAmas de casa\nRepresentantes de organismos internacionales\nDe gobierno\n\nY a toda aquella persona que busca la auto-maestría\,\nel desarrollo humano y la expansión de la consciencia.
URL:https://fresiacastro.cl/evento/seminario-de-activacion-interna-de-la-glandula-pineal-13/
LOCATION:Online\, Chile\, Chile
CATEGORIES:Online
ATTACH;FMTTYPE=image/png:https://fresiacastro.cl/wp-content/uploads/2023/08/INALUCHSINGER.png
ORGANIZER;CN="Ina Luchsinger":MAILTO:momentumpineal@gmail.com
END:VEVENT
BEGIN:VEVENT
DTSTART;VALUE=DATE:20231216
DTEND;VALUE=DATE:20231218
DTSTAMP:20260424T113806
CREATED:20230831T131955Z
LAST-MODIFIED:20231113T232649Z
UID:10000202-1702684800-1702857599@fresiacastro.cl
SUMMARY:Seminario de Activación Interna de la Glándula Pineal con Sami Aristizábal
DESCRIPTION:DESCRIPCIÓN\nEl Seminario de Activación Interna de la Glándula Pineal entrega al participante las bases para activar definitivamente su glándula pineal\, y obtener los beneficios del Método Cyclopea. \nLos asistentes son dotados de información fundamental para la recuperación de conceptos que se encuentran en la memoria celular\, además de entregar las herramientas y claves que prepararan la activación del programa y el acceso a los niveles de creación superior y de transformación creativa. \nDIRIGIDO A:\n\nProfesionales\nArtistas\nEmpresarios\nEstudiantes\nAmas de casa\nRepresentantes de organismos internacionales\nDe gobierno\n\nY a toda aquella persona que busca la auto-maestría\,\nel desarrollo humano y la expansión de la consciencia.
URL:https://fresiacastro.cl/evento/seminario-de-activacion-interna-de-la-glandula-pineal-133/
LOCATION:Online\, Colombia\, Colombia
CATEGORIES:Online
ATTACH;FMTTYPE=image/jpeg:https://fresiacastro.cl/wp-content/uploads/2023/08/SAMIARISTIZABAL.jpg
ORGANIZER;CN="Sami Aristiz%C3%A1bal":MAILTO:sami@samiaristizabal.com
END:VEVENT
BEGIN:VEVENT
DTSTART;VALUE=DATE:20231216
DTEND;VALUE=DATE:20231218
DTSTAMP:20260424T113806
CREATED:20231211T213049Z
LAST-MODIFIED:20231214T022444Z
UID:10000158-1702684800-1702857599@fresiacastro.cl
SUMMARY:Seminario de Activación Interna de la Glándula Pineal con Karina Kamino\, Online
DESCRIPTION:DESCRIPCIÓN\nEl Seminario de Activación Interna de la Glándula Pineal entrega al participante las bases para activar definitivamente su glándula pineal\, y obtener los beneficios del Método Cyclopea. \nLos asistentes son dotados de información fundamental para la recuperación de conceptos que se encuentran en la memoria celular\, además de entregar las herramientas y claves que prepararan la activación del programa y el acceso a los niveles de creación superior y de transformación creativa. \nDIRIGIDO A:\n\nProfesionales\nArtistas\nEmpresarios\nEstudiantes\nAmas de casa\nRepresentantes de organismos internacionales\nDe gobierno\n\nY a toda aquella persona que busca la auto-maestría\,\nel desarrollo humano y la expansión de la consciencia.
URL:https://fresiacastro.cl/evento/seminario-de-activacion-interna-de-la-glandula-pineal-con-karina-kamino-online-2/
LOCATION:Online\, Argentina\, Argentina
CATEGORIES:Argentina,Online
ATTACH;FMTTYPE=image/jpeg:https://fresiacastro.cl/wp-content/uploads/2023/12/karinacamino.jpg
ORGANIZER;CN="Karina Camino":MAILTO:camino.pineal@gmail.com
END:VEVENT
BEGIN:VEVENT
DTSTART;VALUE=DATE:20231221
DTEND;VALUE=DATE:20231223
DTSTAMP:20260424T113806
CREATED:20230828T141718Z
LAST-MODIFIED:20231122T231843Z
UID:10000196-1703116800-1703289599@fresiacastro.cl
SUMMARY:Seminario de Activación Interna de la Glándula Pineal con Valentina Misino
DESCRIPTION:DESCRIPCIÓN\nEl Seminario de Activación Interna de la Glándula Pineal entrega al participante las bases para activar definitivamente su glándula pineal\, y obtener los beneficios del Método Cyclopea. \nLos asistentes son dotados de información fundamental para la recuperación de conceptos que se encuentran en la memoria celular\, además de entregar las herramientas y claves que prepararan la activación del programa y el acceso a los niveles de creación superior y de transformación creativa. \nDIRIGIDO A:\n\nProfesionales\nArtistas\nEmpresarios\nEstudiantes\nAmas de casa\nRepresentantes de organismos internacionales\nDe gobierno\n\nY a toda aquella persona que busca la auto-maestría\,\nel desarrollo humano y la expansión de la consciencia.
URL:https://fresiacastro.cl/evento/seminario-de-activacion-interna-de-la-glandula-pineal-124/
LOCATION:Online\, Argentina\, Argentina
CATEGORIES:Argentina,Online
ATTACH;FMTTYPE=image/jpeg:https://fresiacastro.cl/wp-content/uploads/2023/08/VALENTINAMINISO_SOLOARG.jpg
ORGANIZER;CN="Valentina Misino":MAILTO:contacto@luzpineal.com
END:VEVENT
BEGIN:VEVENT
DTSTART;VALUE=DATE:20231223
DTEND;VALUE=DATE:20231225
DTSTAMP:20260424T113806
CREATED:20231214T155622Z
LAST-MODIFIED:20231214T155622Z
UID:10000221-1703289600-1703462399@fresiacastro.cl
SUMMARY:Seminario de Activación Interna de la Glándula Pineal con Karla Medina-Online
DESCRIPTION:DESCRIPCIÓN\nEl Seminario de Activación Interna de la Glándula Pineal entrega al participante las bases para activar definitivamente su glándula pineal\, y obtener los beneficios del Método Cyclopea. \nLos asistentes son dotados de información fundamental para la recuperación de conceptos que se encuentran en la memoria celular\, además de entregar las herramientas y claves que prepararan la activación del programa y el acceso a los niveles de creación superior y de transformación creativa. \nDIRIGIDO A:\n\nProfesionales\nArtistas\nEmpresarios\nEstudiantes\nAmas de casa\nRepresentantes de organismos internacionales\nDe gobierno\n\nY a toda aquella persona que busca la auto-maestría\,\nel desarrollo humano y la expansión de la consciencia.
URL:https://fresiacastro.cl/evento/seminario-de-activacion-interna-de-la-glandula-pineal-con-karla-medina-online/
LOCATION:Online\, México\, Mexico
CATEGORIES:México,Online
ATTACH;FMTTYPE=image/jpeg:https://fresiacastro.cl/wp-content/uploads/2023/02/KARLAMEDINA.jpg
ORGANIZER;CN="Karla Medina":MAILTO:conexion.pineal.mundo@gmail.com
END:VEVENT
END:VCALENDAR