BEGIN:VCALENDAR
VERSION:2.0
PRODID:-//Universo Fresia Castro - ECPv6.15.20//NONSGML v1.0//EN
CALSCALE:GREGORIAN
METHOD:PUBLISH
X-ORIGINAL-URL:https://fresiacastro.cl
X-WR-CALDESC:Eventos para Universo Fresia Castro
REFRESH-INTERVAL;VALUE=DURATION:PT1H
X-Robots-Tag:noindex
X-PUBLISHED-TTL:PT1H
BEGIN:VTIMEZONE
TZID:America/Santiago
BEGIN:STANDARD
TZOFFSETFROM:-0300
TZOFFSETTO:-0400
TZNAME:-04
DTSTART:20230402T030000
END:STANDARD
BEGIN:DAYLIGHT
TZOFFSETFROM:-0400
TZOFFSETTO:-0300
TZNAME:-03
DTSTART:20230903T040000
END:DAYLIGHT
BEGIN:STANDARD
TZOFFSETFROM:-0300
TZOFFSETTO:-0400
TZNAME:-04
DTSTART:20240407T030000
END:STANDARD
BEGIN:DAYLIGHT
TZOFFSETFROM:-0400
TZOFFSETTO:-0300
TZNAME:-03
DTSTART:20240908T040000
END:DAYLIGHT
BEGIN:STANDARD
TZOFFSETFROM:-0300
TZOFFSETTO:-0400
TZNAME:-04
DTSTART:20250406T030000
END:STANDARD
BEGIN:DAYLIGHT
TZOFFSETFROM:-0400
TZOFFSETTO:-0300
TZNAME:-03
DTSTART:20250907T040000
END:DAYLIGHT
END:VTIMEZONE
BEGIN:VEVENT
DTSTART;VALUE=DATE:20240203
DTEND;VALUE=DATE:20240205
DTSTAMP:20260424T083443
CREATED:20240112T171436Z
LAST-MODIFIED:20240112T171515Z
UID:10000246-1706918400-1707091199@fresiacastro.cl
SUMMARY:Seminario de Activación Interna de la Glándula Pineal con Patricia Piña Oyarzun Online
DESCRIPTION:[vc_row full_width=”stretch_row” overlay_dotted=”true” css=”.vc_custom_1579210890751{margin-top: 20px !important;padding-top: 20px !important;padding-bottom: 20px !important;background-color: #f2eaff !important;}” overlay_color=”#dbdbdb”][vc_column][vc_row_inner][vc_column_inner]DESCRIPCIÓN[vc_column_text]El Seminario de Activación Interna de la Glándula Pineal entrega al participante las bases para activar definitivamente su glándula pineal\, y obtener los beneficios del Método Cyclopea. Los asistentes son dotados de información fundamental para la recuperación de conceptos que se encuentran en la memoria celular\, además de entregar las herramientas y claves que prepararan la activación del programa y el acceso a los niveles de creación superior y de transformación creativa.[/vc_column_text]DIRIGIDO A:ProfesionalesArtistas Empresarios Estudiantes Amas de casa Representantes de organismos internacionales  De gobierno  [/vc_column_inner][/vc_row_inner]Y a toda aquella persona que busca l la auto-maestría\, el desarrollo humano y la expansión de la consciencia.[/vc_column][/vc_row][vc_row overlay_dotted=”” css=”.vc_custom_1579213139935{margin-top: 100px !important;margin-bottom: 100px !important;}”][vc_column][vc_column_text] \nDESCRIPCIÓN DE LOS MÓDULOS\nLos asistentes son dotados de información fundamental para la recuperación de conceptos que se encuentran en la memoria celular\, además de entregar las herramientas y claves que prepararan la activación del programa y el acceso a los niveles de creación superior y de transformación creativa.[/vc_column_text]Primer Módulo[vc_column_text]Tiene un carácter teórico\, en donde el participante recibe una gran cantidad de información necesaria para el desarrollo de las experiencias prácticas dentro del taller. El objetivo de esta etapa es despertar al sabio sobre el intelecto\, introduciendo al participante a su memoria origen. \n\nIntroducción\nCambio de Switch\nQuiénes Somos\nMemoria humanidad v/s memoria del Origen\nConcepto de campo vibratorio atómico\nNecesidad de cambio de paradigma creativo\nActo Creativo y la Red Creativa Humanidad\nElevación del potencial del Equipo\nDispersión y unidad creativa\nGlándula pineal\nEmbudo Creativo\nAtención y aceptación.\nActivación de la Glándula Pineal\, Método Cyclopea (ejercicio)\n\n[/vc_column_text]Segundo Módulo[vc_column_text]Comprende el “Mapa de Ruta”\, que es un auto-diagnóstico energético respecto a la situación actual del participante para identificar los nudos creativos y de cómo han influido en sus resultados\, para luego proceder a su armonización y corrección; cuyos efectos pueden ser percibidos rápidamente.[/vc_column_text]Tercer Módulo[vc_column_text]Comprende la “Aplicación de la Pineal como Capacidad Sinestesica” a través de una dinámica de avance\, que permite a los sentidos físicos entrenarse hacia una experiencia creativa de acceso superior\, mediante la entrada a campos de comprensión que van más allá del 10% del uso cerebral o capacidad creativa\, y sus distintos usos específicos. Con estos ejercicios se define en permanencia un pasadizo de comunicación sensorial consciente disponible a los campos de transferencia de los modelos de perfección. Al finalizar las experiencias contenidas en este Método CYCLOPEA de activación interna de la glándula pineal\, el participante habrá adquirido herramientas trascendentales para su vida\, además de haber experimentado lo que se conoce como “cambios cuánticos” (no medibles) que serán el motor de su nuevo patrón creativo benéfico\, influyendo en sí mismo\, su entorno y el medioambiente. Al finalizar el Curso los participantes recibirán el día Lunes siguiente un mail de Bienvenida con audios relatados por la creadora del método\, Fresia Castro\, con el ejercicio de activación.[/vc_column_text][/vc_column][/vc_row]
URL:https://fresiacastro.cl/evento/seminario-de-activacion-interna-de-la-glandula-pineal-con-patricia-pina-oyarzun-online-3/
LOCATION:Online\, Chile\, Chile
CATEGORIES:Chile,Online
ATTACH;FMTTYPE=image/jpeg:https://fresiacastro.cl/wp-content/uploads/2023/08/PATRICIAPINA_2.jpg
ORGANIZER;CN="Patricia Pi%C3%B1a Oyarzun":MAILTO:activandopinealesporelmundo@gmail.com
END:VEVENT
BEGIN:VEVENT
DTSTART;VALUE=DATE:20240210
DTEND;VALUE=DATE:20240212
DTSTAMP:20260424T083443
CREATED:20230815T231004Z
LAST-MODIFIED:20231108T040516Z
UID:10000186-1707523200-1707695999@fresiacastro.cl
SUMMARY:Todos parten\, ¿Podemos quedarnos? con Enzo Arias
DESCRIPTION:“El último enemigo a vencer es la muerte” dijo Jesús. \nA través de este Taller\, nos vamos interiorizando cada vez más en un tema que para tantos seres resulta ser un tabú\, la muerte y sus dinámicas asociadas\, cómo es que ignoramos la gran oportunidad que se nos presenta en estos tiempos\, cómo podemos liberarnos definitivamente de los miedos y la ignorancia que le hemos asociado. \nDESCRIPCIÓN\n“Todos parten\, ¿Podemos quedarnos?” \nLa Caja atómica y los 7 niveles de interacción creativa\nLa memoria del origen y el gran trauma llamado “Muerte”.\nPrograma de defensa y el miedo al trauma original.\nDiferentes formas de salidas y entradas del escenario creativo.\nEstados devachánicos\, la reencarnación y la Ascensión. \n[vc_message message_box_style=”solid-icon” message_box_color=”purple”]Requisito: Seminario de Activación Interna de la Glándula Pineal[/vc_message]
URL:https://fresiacastro.cl/evento/todos-parten-podemos-quedarnos-5/
LOCATION:Online\, Chile\, Chile
CATEGORIES:Online
ATTACH;FMTTYPE=image/jpeg:https://fresiacastro.cl/wp-content/uploads/2023/08/INSTRUCTORENZO.jpg
ORGANIZER;CN="Enzo Arias":MAILTO:Info@turegresoalorigen.com
END:VEVENT
BEGIN:VEVENT
DTSTART;VALUE=DATE:20240210
DTEND;VALUE=DATE:20240212
DTSTAMP:20260424T083443
CREATED:20231219T221913Z
LAST-MODIFIED:20240214T210819Z
UID:10000169-1707523200-1707695999@fresiacastro.cl
SUMMARY:Seminario de Activación Interna de la Glándula Pineal Online con Concepción Suarez
DESCRIPTION:DESCRIPCIÓN\nEl Seminario de Activación Interna de la Glándula Pineal entrega al participante las bases para activar definitivamente su glándula pineal\, y obtener los beneficios del Método Cyclopea. \nLos asistentes son dotados de información fundamental para la recuperación de conceptos que se encuentran en la memoria celular\, además de entregar las herramientas y claves que prepararan la activación del programa y el acceso a los niveles de creación superior y de transformación creativa. \nDIRIGIDO A:\n\nProfesionales\nArtistas\nEmpresarios\nEstudiantes\nAmas de casa\nRepresentantes de organismos internacionales\nDe gobierno\n\nY a toda aquella persona que busca la auto-maestría\,\nel desarrollo humano y la expansión de la consciencia.
URL:https://fresiacastro.cl/evento/seminario-de-activacion-interna-de-la-glandula-pineal-online-con-concepcion-suarez/
LOCATION:ONLINE
CATEGORIES:Online
ATTACH;FMTTYPE=image/jpeg:https://fresiacastro.cl/wp-content/uploads/2023/07/CONCEPCIONSUAREZ.jpg
ORGANIZER;CN="Concepci%C3%B3n Suarez":MAILTO:info@tukairos.com
END:VEVENT
BEGIN:VEVENT
DTSTART;VALUE=DATE:20240217
DTEND;VALUE=DATE:20240219
DTSTAMP:20260424T083443
CREATED:20231214T162509Z
LAST-MODIFIED:20240214T210730Z
UID:10000223-1708128000-1708300799@fresiacastro.cl
SUMMARY:Seminario de Activación Interna de la Glándula Pineal con Karla Medina-Online
DESCRIPTION:DESCRIPCIÓN\nEl Seminario de Activación Interna de la Glándula Pineal entrega al participante las bases para activar definitivamente su glándula pineal\, y obtener los beneficios del Método Cyclopea. \nLos asistentes son dotados de información fundamental para la recuperación de conceptos que se encuentran en la memoria celular\, además de entregar las herramientas y claves que prepararan la activación del programa y el acceso a los niveles de creación superior y de transformación creativa. \nDIRIGIDO A:\n\nProfesionales\nArtistas\nEmpresarios\nEstudiantes\nAmas de casa\nRepresentantes de organismos internacionales\nDe gobierno\n\nY a toda aquella persona que busca la auto-maestría\,\nel desarrollo humano y la expansión de la consciencia.
URL:https://fresiacastro.cl/evento/seminario-de-activacion-interna-de-la-glandula-pineal-con-karla-medina-online-3/
LOCATION:ONLINE
CATEGORIES:Online
ATTACH;FMTTYPE=image/jpeg:https://fresiacastro.cl/wp-content/uploads/2023/02/KARLAMEDINA.jpg
ORGANIZER;CN="Karla Medina":MAILTO:conexion.pineal.mundo@gmail.com
END:VEVENT
BEGIN:VEVENT
DTSTART;VALUE=DATE:20240217
DTEND;VALUE=DATE:20240219
DTSTAMP:20260424T083443
CREATED:20231219T222051Z
LAST-MODIFIED:20240214T210650Z
UID:10000229-1708128000-1708300799@fresiacastro.cl
SUMMARY:Seminario de Activación Interna de la Glándula Pineal Online con Concepción Suarez
DESCRIPTION:DESCRIPCIÓN\nEl Seminario de Activación Interna de la Glándula Pineal entrega al participante las bases para activar definitivamente su glándula pineal\, y obtener los beneficios del Método Cyclopea. \nLos asistentes son dotados de información fundamental para la recuperación de conceptos que se encuentran en la memoria celular\, además de entregar las herramientas y claves que prepararan la activación del programa y el acceso a los niveles de creación superior y de transformación creativa. \nDIRIGIDO A:\n\nProfesionales\nArtistas\nEmpresarios\nEstudiantes\nAmas de casa\nRepresentantes de organismos internacionales\nDe gobierno\n\nY a toda aquella persona que busca la auto-maestría\,\nel desarrollo humano y la expansión de la consciencia.
URL:https://fresiacastro.cl/evento/seminario-de-activacion-interna-de-la-glandula-pineal-online-con-concepcion-suarez-2/
LOCATION:ONLINE
CATEGORIES:Online
ATTACH;FMTTYPE=image/jpeg:https://fresiacastro.cl/wp-content/uploads/2023/07/CONCEPCIONSUAREZ.jpg
ORGANIZER;CN="Concepci%C3%B3n Suarez":MAILTO:info@tukairos.com
END:VEVENT
BEGIN:VEVENT
DTSTART;VALUE=DATE:20240217
DTEND;VALUE=DATE:20240219
DTSTAMP:20260424T083443
CREATED:20240131T033611Z
LAST-MODIFIED:20240215T165852Z
UID:10000264-1708128000-1708300799@fresiacastro.cl
SUMMARY:Seminario de Activación Interna de la Glándula Pineal (Presencial y Online)
DESCRIPTION:DESCRIPCIÓN\nEl Método CYCLOPEA de Activación Interna de la Glándula Pineal como fórmula original de la Periodista Científica\, Master en Artes y Autora de Siete Best Sellers y Long Sellers Fresia Castro\, se debe entregar desde sus inicios (1990) de forma PRESENCIAL por instructores Certificados por la Organización Fresia Castro. Sin embargo\, producto de la contingencia y los constantes cambios que experimentamos como humanidad\, nos ha dado la oportunidad\, a todos quienes nos han escrito a nuestro mail\, redes sociales y WhatsApp\, que podamos también acceder al Seminario de Activación Interna de la Glándula Pineal\, en formato Online. \nEl Método CYCLOPEA de Activación Interna de la Glándula Pineal se ha convertido en una herramienta valiosa para aquellos que buscan mejorar su calidad de vida\, aumentar su conciencia y conectar con su espiritualidad. A través de la práctica constante de esta técnica\, se pueden experimentar beneficios en la salud física\, mental y emocional\, así como en la vida espiritual y en la conexión con el universo.  \n  \nLUGAR:\n\nFormato Híbrido (Presencial y Online)\n \nPresencial: en Santiago de Chile (incluye brunch/coffee break y materiales para ambos días). \nOnline: desde cualquier lugar del mundo. \n\nIMPARTE: \nAlondra Vera Thompson: Actriz\, Pedagoga Teatral\, Coach en Habilidades Comunicacionales\, Instructora Certificada y Nieta de Fresia Castro. \n\nHORARIOS:\nSábado 17 de Febrero: \n\nDe 10:30 a 17:30 hrs (horario de Chile)\nBreak: de 13:30 a 14:30\n\n  \nDomingo 18 de Febrero: \n\nDe 10:30 a 17:30 hrs (horario de Chile)\nBreak: de 13:30 a 14:30\n\n\nDIRIGIDO A:\n\nProfesionales\nArtistas\nEmpresarios\nEstudiantes\nAmas de casa\nRepresentantes de organismos internacionales\nDe gobierno\n\n“Y a toda aquella persona que busca la auto-maestría\, el desarrollo humano y la expansión de la consciencia” \n\nBENEFICIOS DEL SEMINARIO\n\nActivación del circuito de Conexión Superior\nDisminuye el Estrés\, la Ansiedad y otras patologías al equilibrar nuestro Sistema Nervioso.\nRetarda el proceso de Envejecimiento\nFortalece el sistema inmune\nPotencia los estados de felicidad y equilibrio\nImpulsa los procesos de auto-maestría\nEstimula el sueño reparador\nDesarrolla las habilidades creativas propias de cada individuo\nEstimula la conexión de los hemisferios Cerebrales\nEnriquece la vida Onírica\nPermite la recuperación de nuestra Real Identidad y de nuestras Potencias Creativas Originales\ny más…. Descúbrelos!\n\n\nCOSTOS \nPresencial:  $175.000 pesos Chilenos \nOnline (50% de descuento): $87.500 pesos Chilenos \n*Si ya realizaste el Seminario y ya eres PINEALISTA\, también tienes un 50% de descuento en formato presencial y un valor especial Online \n\nFORMAS DE PAGO\n\n*Para reservar tu cupo\, lo puedes hacer con una inscripción del 50%\, a continuación te dejamos nuestros métodos de pago: \nPaypal: http://www.paypal.me/alondraverathompson \nTransferencia o pago a través de WesterUnion: \nDatos Bancarios:\nAlondra Vera Thompson\n16.874.852-3\nBanco Santander\nCuenta: 0-070-58-89620-3\nCiudad: Santiago\nPais: Chile \n*Enviar comprobante a:  seminariosalondra@universofresiacastro.com\n \n\nREQUERIMIENTOS TÉCNICOS (PARA USUARIOS ONLINE)\n\nLugar tranquilo para escuchar la transmisión\, ya que será totalmente en Vivo (Te recomendamos audífonos y hojas para tomar apuntes)\nUn internet apto para que no vea interrumpida la transmisión\nMateriales necesarios: Papel y lápices para colorear / Papel Kraft y lápices pastel Grasso (idealmente).\n\n 
URL:https://fresiacastro.cl/evento/seminario-activacion-glandula-pineal-santiago-chile/
LOCATION:Santiago\, Chile
CATEGORIES:Online
ATTACH;FMTTYPE=image/jpeg:https://fresiacastro.cl/wp-content/uploads/2023/10/alondra-vera-thompson.jpg
ORGANIZER;CN="Alondra Vera Thompson":MAILTO:seminariosalondra@universofresiacastro.com
END:VEVENT
BEGIN:VEVENT
DTSTART;VALUE=DATE:20240217
DTEND;VALUE=DATE:20240219
DTSTAMP:20260424T083443
CREATED:20240212T165334Z
LAST-MODIFIED:20240213T000034Z
UID:10000266-1708128000-1708300799@fresiacastro.cl
SUMMARY:Seminario de Activación Interna de la Glándula Pineal con Fabia Ottaviani\, Online
DESCRIPTION:DESCRIPCIÓN\nEl Seminario de Activación Interna de la Glándula Pineal entrega al participante las bases para activar definitivamente su glándula pineal\, y obtener los beneficios del Método Cyclopea. \nLos asistentes son dotados de información fundamental para la recuperación de conceptos que se encuentran en la memoria celular\, además de entregar las herramientas y claves que prepararan la activación del programa y el acceso a los niveles de creación superior y de transformación creativa. \nDIRIGIDO A:\n\nProfesionales\nArtistas\nEmpresarios\nEstudiantes\nAmas de casa\nRepresentantes de organismos internacionales\nDe gobierno\n\nY a toda aquella persona que busca la auto-maestría\,\nel desarrollo humano y la expansión de la consciencia.
URL:https://fresiacastro.cl/evento/seminario-de-activacion-interna-de-la-glandula-pineal-con-fabia-ottaviani-online/
LOCATION:ONLINE
CATEGORIES:Online
ATTACH;FMTTYPE=image/jpeg:https://fresiacastro.cl/wp-content/uploads/2024/02/fabiaottaviani.jpg
ORGANIZER;CN="Fabia Ottaviani":MAILTO:informacion@centrolis.net
END:VEVENT
BEGIN:VEVENT
DTSTART;VALUE=DATE:20240224
DTEND;VALUE=DATE:20240226
DTSTAMP:20260424T083443
CREATED:20231219T222243Z
LAST-MODIFIED:20240214T210507Z
UID:10000230-1708732800-1708905599@fresiacastro.cl
SUMMARY:Seminario de Activación Interna de la Glándula Pineal Online con Concepción Suarez
DESCRIPTION:DESCRIPCIÓN\nEl Seminario de Activación Interna de la Glándula Pineal entrega al participante las bases para activar definitivamente su glándula pineal\, y obtener los beneficios del Método Cyclopea. \nLos asistentes son dotados de información fundamental para la recuperación de conceptos que se encuentran en la memoria celular\, además de entregar las herramientas y claves que prepararan la activación del programa y el acceso a los niveles de creación superior y de transformación creativa. \nDIRIGIDO A:\n\nProfesionales\nArtistas\nEmpresarios\nEstudiantes\nAmas de casa\nRepresentantes de organismos internacionales\nDe gobierno\n\nY a toda aquella persona que busca la auto-maestría\,\nel desarrollo humano y la expansión de la consciencia.
URL:https://fresiacastro.cl/evento/seminario-de-activacion-interna-de-la-glandula-pineal-online-con-concepcion-suarez-3/
LOCATION:ONLINE
CATEGORIES:Online
ATTACH;FMTTYPE=image/jpeg:https://fresiacastro.cl/wp-content/uploads/2023/07/CONCEPCIONSUAREZ.jpg
ORGANIZER;CN="Concepci%C3%B3n Suarez":MAILTO:info@tukairos.com
END:VEVENT
END:VCALENDAR