BEGIN:VCALENDAR
VERSION:2.0
PRODID:-//Universo Fresia Castro - ECPv6.15.20//NONSGML v1.0//EN
CALSCALE:GREGORIAN
METHOD:PUBLISH
X-WR-CALNAME:Universo Fresia Castro
X-ORIGINAL-URL:https://fresiacastro.cl
X-WR-CALDESC:Eventos para Universo Fresia Castro
REFRESH-INTERVAL;VALUE=DURATION:PT1H
X-Robots-Tag:noindex
X-PUBLISHED-TTL:PT1H
BEGIN:VTIMEZONE
TZID:America/Santiago
BEGIN:STANDARD
TZOFFSETFROM:-0300
TZOFFSETTO:-0400
TZNAME:-04
DTSTART:20230402T030000
END:STANDARD
BEGIN:DAYLIGHT
TZOFFSETFROM:-0400
TZOFFSETTO:-0300
TZNAME:-03
DTSTART:20230903T040000
END:DAYLIGHT
BEGIN:STANDARD
TZOFFSETFROM:-0300
TZOFFSETTO:-0400
TZNAME:-04
DTSTART:20240407T030000
END:STANDARD
BEGIN:DAYLIGHT
TZOFFSETFROM:-0400
TZOFFSETTO:-0300
TZNAME:-03
DTSTART:20240908T040000
END:DAYLIGHT
BEGIN:STANDARD
TZOFFSETFROM:-0300
TZOFFSETTO:-0400
TZNAME:-04
DTSTART:20250406T030000
END:STANDARD
BEGIN:DAYLIGHT
TZOFFSETFROM:-0400
TZOFFSETTO:-0300
TZNAME:-03
DTSTART:20250907T040000
END:DAYLIGHT
END:VTIMEZONE
BEGIN:VEVENT
DTSTART;VALUE=DATE:20240406
DTEND;VALUE=DATE:20240407
DTSTAMP:20260424T054718
CREATED:20240123T013946Z
LAST-MODIFIED:20240214T204959Z
UID:10000262-1712361600-1712447999@fresiacastro.cl
SUMMARY:La felicidad como destino del ser con Alejandro Cuevas
DESCRIPTION:Taller de profundización La felicidad como destino del ser con Alejandro Cuevas \n[vc_message message_box_style=”solid-icon” message_box_color=”purple”]Requisito: Seminario de Activación Interna de la Glándula Pineal[/vc_message]
URL:https://fresiacastro.cl/evento/la-felicidad-como-destino-del-ser-con-alejandro-cuevas-1/
LOCATION:ONLINE
CATEGORIES:Online
ATTACH;FMTTYPE=image/jpeg:https://fresiacastro.cl/wp-content/uploads/2024/01/INSTRUCTORALEJANDRO.jpg
ORGANIZER;CN="Alejandro Cuevas":MAILTO:contacto@activacionpineal.cl
END:VEVENT
BEGIN:VEVENT
DTSTART;VALUE=DATE:20240406
DTEND;VALUE=DATE:20240408
DTSTAMP:20260424T054718
CREATED:20231220T004113Z
LAST-MODIFIED:20240214T204701Z
UID:10000235-1712361600-1712534399@fresiacastro.cl
SUMMARY:Seminario de Activación Interna de la Glándula Pineal Online con Concepción Suarez
DESCRIPTION:DESCRIPCIÓN\nEl Seminario de Activación Interna de la Glándula Pineal entrega al participante las bases para activar definitivamente su glándula pineal\, y obtener los beneficios del Método Cyclopea. \nLos asistentes son dotados de información fundamental para la recuperación de conceptos que se encuentran en la memoria celular\, además de entregar las herramientas y claves que prepararan la activación del programa y el acceso a los niveles de creación superior y de transformación creativa. \nDIRIGIDO A:\n\nProfesionales\nArtistas\nEmpresarios\nEstudiantes\nAmas de casa\nRepresentantes de organismos internacionales\nDe gobierno\n\nY a toda aquella persona que busca la auto-maestría\,\nel desarrollo humano y la expansión de la consciencia.
URL:https://fresiacastro.cl/evento/seminario-de-activacion-interna-de-la-glandula-pineal-online-con-concepcion-suarez-7/
LOCATION:ONLINE
CATEGORIES:Online
ATTACH;FMTTYPE=image/jpeg:https://fresiacastro.cl/wp-content/uploads/2023/07/CONCEPCIONSUAREZ.jpg
ORGANIZER;CN="Concepci%C3%B3n Suarez":MAILTO:info@tukairos.com
END:VEVENT
BEGIN:VEVENT
DTSTART;VALUE=DATE:20240406
DTEND;VALUE=DATE:20240408
DTSTAMP:20260424T054718
CREATED:20240301T182547Z
LAST-MODIFIED:20240301T230206Z
UID:10000298-1712361600-1712534399@fresiacastro.cl
SUMMARY:Seminario de Activación Interna de la Glándula Pineal con Patricia Piña Oyarzun
DESCRIPTION:Regístrate aquí \n¿Dudas? Mándame un Whatsapp \n[vc_row full_width=”stretch_row” overlay_dotted=”true” css=”.vc_custom_1579210890751{margin-top: 20px !important;padding-top: 20px !important;padding-bottom: 20px !important;background-color: #f2eaff !important;}” overlay_color=”#dbdbdb”][vc_column][vc_row_inner][vc_column_inner]DESCRIPCIÓN[vc_column_text]El Seminario de Activación Interna de la Glándula Pineal entrega al participante las bases para activar definitivamente su glándula pineal\, y obtener los beneficios del Método Cyclopea. Los asistentes son dotados de información fundamental para la recuperación de conceptos que se encuentran en la memoria celular\, además de entregar las herramientas y claves que prepararan la activación del programa y el acceso a los niveles de creación superior y de transformación creativa.[/vc_column_text]DIRIGIDO A:ProfesionalesArtistas Empresarios Estudiantes Amas de casa Representantes de organismos internacionales  De gobierno  [/vc_column_inner][/vc_row_inner]Y a toda aquella persona que busca l la auto-maestría\, el desarrollo humano y la expansión de la consciencia.[/vc_column][/vc_row][vc_row overlay_dotted=”” css=”.vc_custom_1579213139935{margin-top: 100px !important;margin-bottom: 100px !important;}”][vc_column][vc_column_text] \nDESCRIPCIÓN DE LOS MÓDULOS\nLos asistentes son dotados de información fundamental para la recuperación de conceptos que se encuentran en la memoria celular\, además de entregar las herramientas y claves que prepararan la activación del programa y el acceso a los niveles de creación superior y de transformación creativa.[/vc_column_text]Primer Módulo[vc_column_text]Tiene un carácter teórico\, en donde el participante recibe una gran cantidad de información necesaria para el desarrollo de las experiencias prácticas dentro del taller. El objetivo de esta etapa es despertar al sabio sobre el intelecto\, introduciendo al participante a su memoria origen. \n\nIntroducción\nCambio de Switch\nQuiénes Somos\nMemoria humanidad v/s memoria del Origen\nConcepto de campo vibratorio atómico\nNecesidad de cambio de paradigma creativo\nActo Creativo y la Red Creativa Humanidad\nElevación del potencial del Equipo\nDispersión y unidad creativa\nGlándula pineal\nEmbudo Creativo\nAtención y aceptación.\nActivación de la Glándula Pineal\, Método Cyclopea (ejercicio)\n\n[/vc_column_text]Segundo Módulo[vc_column_text]Comprende el “Mapa de Ruta”\, que es un auto-diagnóstico energético respecto a la situación actual del participante para identificar los nudos creativos y de cómo han influido en sus resultados\, para luego proceder a su armonización y corrección; cuyos efectos pueden ser percibidos rápidamente.[/vc_column_text]Tercer Módulo[vc_column_text]Comprende la “Aplicación de la Pineal como Capacidad Sinestesica” a través de una dinámica de avance\, que permite a los sentidos físicos entrenarse hacia una experiencia creativa de acceso superior\, mediante la entrada a campos de comprensión que van más allá del 10% del uso cerebral o capacidad creativa\, y sus distintos usos específicos. Con estos ejercicios se define en permanencia un pasadizo de comunicación sensorial consciente disponible a los campos de transferencia de los modelos de perfección. Al finalizar las experiencias contenidas en este Método CYCLOPEA de activación interna de la glándula pineal\, el participante habrá adquirido herramientas trascendentales para su vida\, además de haber experimentado lo que se conoce como “cambios cuánticos” (no medibles) que serán el motor de su nuevo patrón creativo benéfico\, influyendo en sí mismo\, su entorno y el medioambiente. Al finalizar el Curso los participantes recibirán el día Lunes siguiente un mail de Bienvenida con audios relatados por la creadora del método\, Fresia Castro\, con el ejercicio de activación.[/vc_column_text][/vc_column][/vc_row] \n¿Dudas? Mándame un Whatsapp
URL:https://fresiacastro.cl/evento/seminario-de-activacion-interna-de-la-glandula-pineal-con-patricia-pina-oyarzun/
LOCATION:ONLINE
CATEGORIES:Online
ATTACH;FMTTYPE=image/jpeg:https://fresiacastro.cl/wp-content/uploads/2023/08/PATRICIAPINA_2.jpg
ORGANIZER;CN="Patricia Pi%C3%B1a Oyarzun":MAILTO:activandopinealesporelmundo@gmail.com
END:VEVENT
BEGIN:VEVENT
DTSTART;VALUE=DATE:20240406
DTEND;VALUE=DATE:20240408
DTSTAMP:20260424T054718
CREATED:20240305T180510Z
LAST-MODIFIED:20240305T181250Z
UID:10000307-1712361600-1712534399@fresiacastro.cl
SUMMARY:Seminario de Activación Interna de la Glándula Pineal con Fabia Ottaviani
DESCRIPTION:DESCRIPCIÓN\nEl Seminario de Activación Interna de la Glándula Pineal entrega al participante las bases para activar definitivamente su glándula pineal\, y obtener los beneficios del Método Cyclopea. \nLos asistentes son dotados de información fundamental para la recuperación de conceptos que se encuentran en la memoria celular\, además de entregar las herramientas y claves que prepararan la activación del programa y el acceso a los niveles de creación superior y de transformación creativa. \nDIRIGIDO A:\n\nProfesionales\nArtistas\nEmpresarios\nEstudiantes\nAmas de casa\nRepresentantes de organismos internacionales\nDe gobierno\n\nY a toda aquella persona que busca la auto-maestría\,\nel desarrollo humano y la expansión de la consciencia.
URL:https://fresiacastro.cl/evento/seminario-de-activacion-interna-de-la-glandula-pineal-con-fabia-ottaviani/
LOCATION:ONLINE
CATEGORIES:Online
ATTACH;FMTTYPE=image/jpeg:https://fresiacastro.cl/wp-content/uploads/2024/02/fabiaottaviani.jpg
ORGANIZER;CN="Fabia Ottaviani":MAILTO:informacion@centrolis.net
END:VEVENT
BEGIN:VEVENT
DTSTART;VALUE=DATE:20240413
DTEND;VALUE=DATE:20240415
DTSTAMP:20260424T054718
CREATED:20231214T170037Z
LAST-MODIFIED:20240214T204343Z
UID:10000225-1712966400-1713139199@fresiacastro.cl
SUMMARY:Seminario de Activación Interna de la Glándula Pineal con Karla Medina-Online
DESCRIPTION:DESCRIPCIÓN\nEl Seminario de Activación Interna de la Glándula Pineal entrega al participante las bases para activar definitivamente su glándula pineal\, y obtener los beneficios del Método Cyclopea. \nLos asistentes son dotados de información fundamental para la recuperación de conceptos que se encuentran en la memoria celular\, además de entregar las herramientas y claves que prepararan la activación del programa y el acceso a los niveles de creación superior y de transformación creativa. \nDIRIGIDO A:\n\nProfesionales\nArtistas\nEmpresarios\nEstudiantes\nAmas de casa\nRepresentantes de organismos internacionales\nDe gobierno\n\nY a toda aquella persona que busca la auto-maestría\,\nel desarrollo humano y la expansión de la consciencia.
URL:https://fresiacastro.cl/evento/seminario-de-activacion-interna-de-la-glandula-pineal-con-karla-medina-online-5/
LOCATION:ONLINE
CATEGORIES:Online
ATTACH;FMTTYPE=image/jpeg:https://fresiacastro.cl/wp-content/uploads/2023/02/KARLAMEDINA.jpg
ORGANIZER;CN="Karla Medina":MAILTO:conexion.pineal.mundo@gmail.com
END:VEVENT
BEGIN:VEVENT
DTSTART;VALUE=DATE:20240413
DTEND;VALUE=DATE:20240415
DTSTAMP:20260424T054718
CREATED:20240301T180623Z
LAST-MODIFIED:20240301T221014Z
UID:10000292-1712966400-1713139199@fresiacastro.cl
SUMMARY:La Opulencia: El Próximo Paso con Maritza Rodriguez
DESCRIPTION:  \nLa Opulencia se enseña como una herramienta práctica para HOY. La oportunidad de manifestar cada día mayor abundancia en Tu Vida. La ausencia de la necesidad.\nNunca has estado más cerca de vivir sin sobresaltos\, y ante la oportunidad de contar con las condiciones óptimas para una vida plena. Este taller te provee de herramientas para ello. \nDESCRIPCIÓN\nLa ley de precipitación esta al alcance de nuestra mano; conocer las claves de su aplicación es tema de este taller. La espiral y el laberinto son herramientas que apoyaran la destreza de la auto maestría. Así mismo aprenderás a ensoñar\, principio activo de la precipitación a la forma física. \nEn la medida en que conozcas las claves esenciales que permitirán este cambio armónico y las pongas en práctica\, tendrás las respuestas que te darán la completa seguridad de que es posible la opulencia. \nLas propias condiciones en que el hombre se encuentra hoy\, ha liberado estas claves originales que darán la respuesta de la relación armónica del ser con su hábitat\, como reacción natural de acuerdo a las leyes inmutables de equilibrio\, que rigen nuestro sistema. \n[vc_message message_box_style=”solid-icon” message_box_color=”purple”]Requisito: Seminario de Activación Interna de la Glándula Pineal[/vc_message]
URL:https://fresiacastro.cl/evento/la-opulencia-el-proximo-paso-con-maritza-rodriguez/
LOCATION:ONLINE
CATEGORIES:Online
ATTACH;FMTTYPE=image/jpeg:https://fresiacastro.cl/wp-content/uploads/2023/08/INSTRUCTORAMARITZARODRIGUEZ.jpg
ORGANIZER;CN="Maritza Rodr%C3%ADguez":MAILTO:maritza@metodopineal.net
END:VEVENT
BEGIN:VEVENT
DTSTART;VALUE=DATE:20240420
DTEND;VALUE=DATE:20240422
DTSTAMP:20260424T054718
CREATED:20231220T004818Z
LAST-MODIFIED:20240214T204625Z
UID:10000237-1713571200-1713743999@fresiacastro.cl
SUMMARY:Seminario de Activación Interna de la Glándula Pineal Online con Concepción Suarez
DESCRIPTION:DESCRIPCIÓN\nEl Seminario de Activación Interna de la Glándula Pineal entrega al participante las bases para activar definitivamente su glándula pineal\, y obtener los beneficios del Método Cyclopea. \nLos asistentes son dotados de información fundamental para la recuperación de conceptos que se encuentran en la memoria celular\, además de entregar las herramientas y claves que prepararan la activación del programa y el acceso a los niveles de creación superior y de transformación creativa. \nDIRIGIDO A:\n\nProfesionales\nArtistas\nEmpresarios\nEstudiantes\nAmas de casa\nRepresentantes de organismos internacionales\nDe gobierno\n\nY a toda aquella persona que busca la auto-maestría\,\nel desarrollo humano y la expansión de la consciencia.
URL:https://fresiacastro.cl/evento/seminario-de-activacion-interna-de-la-glandula-pineal-online-con-concepcion-suarez-8/
LOCATION:ONLINE
CATEGORIES:Online
ATTACH;FMTTYPE=image/jpeg:https://fresiacastro.cl/wp-content/uploads/2023/07/CONCEPCIONSUAREZ.jpg
ORGANIZER;CN="Concepci%C3%B3n Suarez":MAILTO:info@tukairos.com
END:VEVENT
BEGIN:VEVENT
DTSTART;VALUE=DATE:20240420
DTEND;VALUE=DATE:20240422
DTSTAMP:20260424T054718
CREATED:20240117T175930Z
LAST-MODIFIED:20240214T204428Z
UID:10000249-1713571200-1713743999@fresiacastro.cl
SUMMARY:Seminario de Activación Interna de la Glándula Pineal con Alejandro Cuevas
DESCRIPTION:  \nDESCRIPCIÓN\nEl Seminario de Activación Interna de la Glándula Pineal entrega al participante las bases para activar definitivamente su glándula pineal\, y obtener los beneficios del Método Cyclopea. \nLos asistentes son dotados de información fundamental para la recuperación de conceptos que se encuentran en la memoria celular\, además de entregar las herramientas y claves que prepararan la activación del programa y el acceso a los niveles de creación superior y de transformación creativa. \nDIRIGIDO A:\n\nProfesionales\nArtistas\nEmpresarios\nEstudiantes\nAmas de casa\nRepresentantes de organismos internacionales\nDe gobierno\n\nY a toda aquella persona que busca la auto-maestría\,\nel desarrollo humano y la expansión de la consciencia. \n 
URL:https://fresiacastro.cl/evento/seminario-de-activacion-interna-de-la-glandula-pineal-con-alejandro-cuevas-3/
LOCATION:ONLINE
CATEGORIES:Online
ATTACH;FMTTYPE=image/jpeg:https://fresiacastro.cl/wp-content/uploads/2023/11/ALEJANDROCUEVASgra.jpg
ORGANIZER;CN="Alejandro Cuevas":MAILTO:contacto@activacionpineal.cl
END:VEVENT
BEGIN:VEVENT
DTSTART;VALUE=DATE:20240420
DTEND;VALUE=DATE:20240422
DTSTAMP:20260424T054718
CREATED:20240321T045727Z
LAST-MODIFIED:20240321T050516Z
UID:10000312-1713571200-1713743999@fresiacastro.cl
SUMMARY:Seminario de Activación Interna de la Glándula Pineal con Olga Galeano
DESCRIPTION:DESCRIPCIÓN\nEl Seminario de Activación Interna de la Glándula Pineal entrega al participante las bases para activar definitivamente su glándula pineal\, y obtener los beneficios del Método Cyclopea. \nLos asistentes son dotados de información fundamental para la recuperación de conceptos que se encuentran en la memoria celular\, además de entregar las herramientas y claves que prepararan la activación del programa y el acceso a los niveles de creación superior y de transformación creativa. \nDIRIGIDO A:\n\nProfesionales\nArtistas\nEmpresarios\nEstudiantes\nAmas de casa\nRepresentantes de organismos internacionales\nDe gobierno\n\nY a toda aquella persona que busca la auto-maestría\,\nel desarrollo humano y la expansión de la consciencia.
URL:https://fresiacastro.cl/evento/seminario-de-activacion-interna-de-la-glandula-pineal-con-olga-galeano-2/
LOCATION:ONLINE
CATEGORIES:Online
ATTACH;FMTTYPE=image/jpeg:https://fresiacastro.cl/wp-content/uploads/2024/02/OLGAGALEANO.jpg
ORGANIZER;CN="Olga Galeano":MAILTO:contacto@weneal.com
END:VEVENT
BEGIN:VEVENT
DTSTART;VALUE=DATE:20240420
DTEND;VALUE=DATE:20240422
DTSTAMP:20260424T054718
CREATED:20240321T164200Z
LAST-MODIFIED:20240327T200125Z
UID:10000313-1713571200-1713743999@fresiacastro.cl
SUMMARY:Seminario de Activación Interna de la Glándula Pineal\, con Alondra Vera (Presencial y Online)
DESCRIPTION:Regístrate aquí \n¿Dudas? Mándame un Whatsapp \n  \n\n  \nDESCRIPCIÓN\nEl Método CYCLOPEA de Activación Interna de la Glándula Pineal como fórmula original de la Periodista Científica\, Master en Artes y Autora de Siete Best Sellers y Long Sellers Fresia Castro\, se debe entregar desde sus inicios (1990) de forma PRESENCIAL por instructores Certificados por la Organización Fresia Castro. Sin embargo\, producto de la contingencia y los constantes cambios que experimentamos como humanidad\, nos ha dado la oportunidad\, a todos quienes nos han escrito a nuestro mail\, redes sociales y WhatsApp\, que podamos también acceder al Seminario de Activación Interna de la Glándula Pineal\, en formato Online. \nEl Método CYCLOPEA de Activación Interna de la Glándula Pineal se ha convertido en una herramienta valiosa para aquellos que buscan mejorar su calidad de vida\, aumentar su conciencia y conectar con su espiritualidad. A través de la práctica constante de esta técnica\, se pueden experimentar beneficios en la salud física\, mental y emocional\, así como en la vida espiritual y en la conexión con el universo.  \n  \nLUGAR:\n\nFormato Híbrido (Presencial y Online)\n \nPresencial: en Arica\, Chile (incluye brunch/coffee break y materiales para ambos días). \nOnline: desde cualquier lugar del mundo. \n\nHORARIOS:\nSábado 20 de Abril: \nDe 10:30 a 17:30 hrs (horario de Chile) \nBreak: de 13:30 a 14:30 \n\nDomingo 21 de Abril: \nDe 10:30 a 17:30 hrs (horario de Chile) \nBreak: de 13:30 a 14:30 \n\nDIRIGIDO A:\n\nProfesionales\nArtistas\nEmpresarios\nEstudiantes\nAmas de casa\nRepresentantes de organismos internacionales\nDe gobierno\n\n“Y a toda aquella persona que busca la auto-maestría\, el desarrollo humano y la expansión de la consciencia” \n\nBENEFICIOS DEL SEMINARIO\n\nActivación del circuito de Conexión Superior\nDisminuye el Estrés\, la Ansiedad y otras patologías al equilibrar nuestro Sistema Nervioso.\nRetarda el proceso de Envejecimiento\nFortalece el sistema inmune\nPotencia los estados de felicidad y equilibrio\nImpulsa los procesos de auto-maestría\nEstimula el sueño reparador\nDesarrolla las habilidades creativas propias de cada individuo\nEstimula la conexión de los hemisferios Cerebrales\nEnriquece la vida Onírica\nPermite la recuperación de nuestra Real Identidad y de nuestras Potencias Creativas Originales\ny más…. Descúbrelos!\n\n\nCOSTO: \n\nCosto Presencial: $175.000 CLP\n\nCosto Online: $87.500 CLP\n\n\nFORMAS DE PAGO\n \n*Para reservar tu cupo\, lo puedes hacer con una inscripción del 50%\, a continuación te dejamos nuestros métodos de pago: \nPaypal: http://www.paypal.me/alondraverathompson \nTransferencia o pago a través de WesterUnion: \nDatos Bancarios:\nAlondra Vera Thompson\n16.874.852-3\nBanco Santander\nCuenta: 0-070-58-89620-3\nCiudad: Santiago\nPais: Chile \n*Enviar comprobante a:  seminariosalondra@universofresiacastro.com\n \n\nREQUERIMIENTOS TÉCNICOS (PARA USUARIOS ONLINE)\n\nLugar tranquilo para escuchar la transmisión\, ya que será totalmente en Vivo (Te recomendamos audífonos y hojas para tomar apuntes)\nUn internet apto para que no vea interrumpida la transmisión\nMateriales necesarios: Papel y lápices para colorear / Papel Kraft y lápices pastel Grasso (idealmente).\n\n¿Dudas? Mándame un Whatsapp
URL:https://fresiacastro.cl/evento/seminario-de-activacion-interna-de-la-glandula-pineal-con-alondra-vera-presencial-y-online/
LOCATION:Arica\, Chile
CATEGORIES:Chile,Online
ATTACH;FMTTYPE=image/jpeg:https://fresiacastro.cl/wp-content/uploads/2023/10/alondra-vera-thompson.jpg
ORGANIZER;CN="Alondra Vera Thompson":MAILTO:seminariosalondra@universofresiacastro.com
END:VEVENT
BEGIN:VEVENT
DTSTART;VALUE=DATE:20240420
DTEND;VALUE=DATE:20240422
DTSTAMP:20260424T054718
CREATED:20240409T060057Z
LAST-MODIFIED:20240409T060057Z
UID:10000317-1713571200-1713743999@fresiacastro.cl
SUMMARY:Seminario de Activación Interna de la Glándula Pineal con Karen Amstein
DESCRIPTION:DESCRIPCIÓN\nEl Seminario de Activación Interna de la Glándula Pineal entrega al participante las bases para activar definitivamente su glándula pineal\, y obtener los beneficios del Método Cyclopea. \nLos asistentes son dotados de información fundamental para la recuperación de conceptos que se encuentran en la memoria celular\, además de entregar las herramientas y claves que prepararan la activación del programa y el acceso a los niveles de creación superior y de transformación creativa. \nDIRIGIDO A:\n\nProfesionales\nArtistas\nEmpresarios\nEstudiantes\nAmas de casa\nRepresentantes de organismos internacionales\nDe gobierno\n\nY a toda aquella persona que busca la auto-maestría\,\nel desarrollo humano y la expansión de la consciencia.
URL:https://fresiacastro.cl/evento/seminario-de-activacion-interna-de-la-glandula-pineal-con-karen-amstein/
LOCATION:ONLINE
CATEGORIES:Online
ATTACH;FMTTYPE=image/jpeg:https://fresiacastro.cl/wp-content/uploads/2024/04/glandula-pineal-karen-amstein.jpg
ORGANIZER;CN="Karen Amstein":MAILTO:karen.amstein@gmail.com
END:VEVENT
BEGIN:VEVENT
DTSTART;VALUE=DATE:20240427
DTEND;VALUE=DATE:20240429
DTSTAMP:20260424T054718
CREATED:20240301T180950Z
LAST-MODIFIED:20240301T221829Z
UID:10000293-1714176000-1714348799@fresiacastro.cl
SUMMARY:Seminario de Activación Interna de la Glándula Pineal con Maritza Rodríguez
DESCRIPTION:DESCRIPCIÓN\nEl Seminario de Activación Interna de la Glándula Pineal entrega al participante las bases para activar definitivamente su glándula pineal\, y obtener los beneficios del Método Cyclopea. \nLos asistentes son dotados de información fundamental para la recuperación de conceptos que se encuentran en la memoria celular\, además de entregar las herramientas y claves que prepararan la activación del programa y el acceso a los niveles de creación superior y de transformación creativa. \nDIRIGIDO A:\n\nProfesionales\nArtistas\nEmpresarios\nEstudiantes\nAmas de casa\nRepresentantes de organismos internacionales\nDe gobierno\n\nY a toda aquella persona que busca la auto-maestría\,\nel desarrollo humano y la expansión de la consciencia.
URL:https://fresiacastro.cl/evento/seminario-de-activacion-interna-de-la-glandula-pineal-con-maritza-rodriguez-online-3/
LOCATION:ONLINE
CATEGORIES:Online
ATTACH;FMTTYPE=image/jpeg:https://fresiacastro.cl/wp-content/uploads/2023/08/MARITZARODIRGUEZ.jpg
ORGANIZER;CN="Maritza Rodr%C3%ADguez":MAILTO:maritza@metodopineal.net
END:VEVENT
END:VCALENDAR