BEGIN:VCALENDAR
VERSION:2.0
PRODID:-//Universo Fresia Castro - ECPv6.15.20//NONSGML v1.0//EN
CALSCALE:GREGORIAN
METHOD:PUBLISH
X-ORIGINAL-URL:https://fresiacastro.cl
X-WR-CALDESC:Eventos para Universo Fresia Castro
REFRESH-INTERVAL;VALUE=DURATION:PT1H
X-Robots-Tag:noindex
X-PUBLISHED-TTL:PT1H
BEGIN:VTIMEZONE
TZID:America/Santiago
BEGIN:STANDARD
TZOFFSETFROM:-0300
TZOFFSETTO:-0400
TZNAME:-04
DTSTART:20220403T030000
END:STANDARD
BEGIN:DAYLIGHT
TZOFFSETFROM:-0400
TZOFFSETTO:-0300
TZNAME:-03
DTSTART:20220911T040000
END:DAYLIGHT
BEGIN:STANDARD
TZOFFSETFROM:-0300
TZOFFSETTO:-0400
TZNAME:-04
DTSTART:20230402T030000
END:STANDARD
BEGIN:DAYLIGHT
TZOFFSETFROM:-0400
TZOFFSETTO:-0300
TZNAME:-03
DTSTART:20230903T040000
END:DAYLIGHT
BEGIN:STANDARD
TZOFFSETFROM:-0300
TZOFFSETTO:-0400
TZNAME:-04
DTSTART:20240407T030000
END:STANDARD
BEGIN:DAYLIGHT
TZOFFSETFROM:-0400
TZOFFSETTO:-0300
TZNAME:-03
DTSTART:20240908T040000
END:DAYLIGHT
BEGIN:STANDARD
TZOFFSETFROM:-0300
TZOFFSETTO:-0400
TZNAME:-04
DTSTART:20250406T030000
END:STANDARD
BEGIN:DAYLIGHT
TZOFFSETFROM:-0400
TZOFFSETTO:-0300
TZNAME:-03
DTSTART:20250907T040000
END:DAYLIGHT
BEGIN:STANDARD
TZOFFSETFROM:-0300
TZOFFSETTO:-0400
TZNAME:-04
DTSTART:20260405T030000
END:STANDARD
BEGIN:DAYLIGHT
TZOFFSETFROM:-0400
TZOFFSETTO:-0300
TZNAME:-03
DTSTART:20260906T040000
END:DAYLIGHT
END:VTIMEZONE
BEGIN:VEVENT
DTSTART;VALUE=DATE:20250830
DTEND;VALUE=DATE:20250901
DTSTAMP:20260421T155511
CREATED:20250731T195847Z
LAST-MODIFIED:20250731T195944Z
UID:10000688-1756512000-1756684799@fresiacastro.cl
SUMMARY:La Felicidad Como Destino del Ser con Maritza Rodríguez
DESCRIPTION:Regístrate aquí\n  ¿Dudas? Mándame un WhatsApp\n\n  \nTaller de profundización La felicidad como destino del ser con Maritza Rodríguez \n[vc_message message_box_style=”solid-icon” message_box_color=”purple”]Requisito: Seminario de Activación Interna de la Glándula Pineal[/vc_message]
URL:https://fresiacastro.cl/evento/la-felicidad-como-destino-del-ser-con-maritza-rodriguez-2/
LOCATION:Online\, Venezuela\, Venezuela
CATEGORIES:Online,Talleres de Profundización,Venezuela
ATTACH;FMTTYPE=image/jpeg:https://fresiacastro.cl/wp-content/uploads/2023/08/INSTRUCTORAMARITZARODRIGUEZ.jpg
ORGANIZER;CN="Maritza Rodr%C3%ADguez":MAILTO:maritza@metodopineal.net
END:VEVENT
BEGIN:VEVENT
DTSTART;VALUE=DATE:20250823
DTEND;VALUE=DATE:20250825
DTSTAMP:20260421T155511
CREATED:20250731T190456Z
LAST-MODIFIED:20250731T221219Z
UID:10000684-1755907200-1756079999@fresiacastro.cl
SUMMARY:Seminario de Activación Interna de la Glándula Pineal con Maritza Rodríguez
DESCRIPTION:Regístrate aquí\n    ¿Dudas? Mándame un Whatsapp\n  \n \nDESCRIPCIÓN\n\n  La Activación de la Glándula Pineal te permite potenciar tus habilidades creativas al recuperar tu real identidad y “crear la vida que has soñado”.\n  A través del Método Cyclopea\, revela y manifiesta por primera vez al ser creador que eres\, en su real dimensión superior. Te permite potenciar tu centro creador pineal pituitario y transformarte en el perfecto guía de tus decisiones\, manejar tu existencia y experiencias\, recuperar tu real identidad de manera definitiva y así mantener tu vida fuera de las limitaciones de este mundo. \n  Aparte de entregar la Fórmula que despierta en ti tu poder para modificar resultados biológicos e incrementar los beneficios de esta glándula\, te devuelve tu condición de cocreador con el UNO\, en perfección\, a través de la “Fuente Generadora” y así\, no sólo puedes transformar tu propia existencia\, sino irradiar ese estado para ayudar a tu entorno y a tus semejantes en este proceso de cambios que la humanidad está viviendo. Es la fórmula del origen devuelta a la humanidad.\n \n\n  El Método Cyclopea de Activación Interna de la Glándula Pineal se ha convertido en una herramienta valiosa para aquellos que buscan mejorar su calidad de vida\, aumentar su conciencia y conectar con su espiritualidad. A través de la práctica constante de esta técnica\, se pueden experimentar beneficios en la salud física\, mental y emocional\, así como en la vida espiritual y en la conexión con el universo.\n \n\n \nMÓDULOS\n\n  Los asistentes son dotados de información fundamental para la recuperación de conceptos que se encuentran en la memoria celular\, además de entregar las herramientas y claves que prepararán la activación del programa y el acceso a los niveles de creación superior y de transformación creativa.\n \n\nPrimer Módulo[vc_column_text]\n  Tiene un carácter teórico\, en donde el participante recibe una gran cantidad de información necesaria para el desarrollo de las experiencias prácticas dentro del taller. El objetivo de esta etapa es despertar al sabio sobre el intelecto\, introduciendo al participante a su memoria origen. \n\nIntroducción\nCambio de Switch\nQuiénes Somos\nMemoria humanidad v/s memoria del Origen\nConcepto de campo vibratorio atómico\nNecesidad de cambio de paradigma creativo\nActo Creativo y la Red Creativa Humanidad\nElevación del potencial del Equipo\nDispersión y unidad creativa\nGlándula pineal\nEmbudo Creativo\nAtención y aceptación\nActivación de la Glándula Pineal\, Método Cyclopea (ejercicio)\n\n  [/vc_column_text]Segundo Módulo[vc_column_text]\n  Comprende el “Mapa de Ruta”\, que es un auto-diagnóstico energético respecto a la situación actual del participante para identificar los nudos creativos y cómo han influido en sus resultados\, para luego proceder a su armonización y corrección; cuyos efectos pueden ser percibidos rápidamente.\n  [/vc_column_text]Tercer Módulo[vc_column_text]\n  Comprende la “Aplicación de la Pineal como Capacidad Sinestésica” a través de una dinámica de avance\, que permite a los sentidos físicos entrenarse hacia una experiencia creativa de acceso superior\, mediante la entrada a campos de comprensión que van más allá del 10% del uso cerebral o capacidad creativa. Al finalizar\, el participante habrá adquirido herramientas trascendentales para su vida\, además de experimentar “cambios cuánticos” que serán el motor de su nuevo patrón creativo benéfico. El lunes siguiente al curso recibirán un mail de bienvenida con audios de Fresia Castro y el ejercicio de activación.\n  [/vc_column_text]\n\n \nDIRIGIDO A:\n\nProfesionales\nArtistas\nEmpresarios\nEstudiantes\nAmas de casa\nRepresentantes de organismos internacionales\nDe gobierno\n\n\n  “Y a toda aquella persona que busca la auto-maestría\, el desarrollo humano y la expansión de la consciencia”\n \n\n \nBENEFICIOS DEL SEMINARIO\n\nActivación del circuito de Conexión Superior\nDisminuye el Estrés\, la Ansiedad y otras patologías al equilibrar nuestro Sistema Nervioso\nRetarda el proceso de Envejecimiento\nFortalece el sistema inmune\nPotencia los estados de felicidad y equilibrio\nImpulsa los procesos de auto-maestría\nEstimula el sueño reparador\nDesarrolla las habilidades creativas propias de cada individuo\nEstimula la conexión de los hemisferios Cerebrales\nEnriquece la vida Onírica\nPermite la recuperación de nuestra Real Identidad y de nuestras Potencias Creativas Originales\ny más… ¡Descúbrelos!\n\n \n\n  ¿Dudas? Mándame un WhatsApp
URL:https://fresiacastro.cl/evento/seminario-de-activacion-interna-de-la-glandula-pineal-con-maritza-rodriguez-13/
LOCATION:Online\, Venezuela\, Venezuela
CATEGORIES:Online,Venezuela
ATTACH;FMTTYPE=image/jpeg:https://fresiacastro.cl/wp-content/uploads/2024/08/maritza-rodriguez.jpg
ORGANIZER;CN="Maritza Rodr%C3%ADguez":MAILTO:maritza@metodopineal.net
END:VEVENT
BEGIN:VEVENT
DTSTART;VALUE=DATE:20250125
DTEND;VALUE=DATE:20250127
DTSTAMP:20260421T155511
CREATED:20240817T031520Z
LAST-MODIFIED:20241217T081355Z
UID:10000422-1737763200-1737935999@fresiacastro.cl
SUMMARY:Seminario de Activación Interna de la Glándula Pineal con Maritza Rodríguez
DESCRIPTION:Regístrate aquí \n¿Dudas? Mándame un Whatsapp \n  \n\n  \nDESCRIPCIÓN\nLa Activación de la Glándula Pineal te permite potenciar tus habilidades creativas al recuperar tu real identidad y “crear la vida que has soñado”. \nA través del Método Cyclopea\, revela y manifiesta por primera vez al ser creador que eres\, en su real dimensión superior. Te permite potenciar tu centro creador pineal pituitario y transformarte en el perfecto guía de tus decisiones\, manejar tu existencia y experiencias\, recuperar tu real identidad de manera definitiva y así mantener tu vida fuera de las limitaciones de este mundo.  \nAparte de entregar la Fórmula que despierta en ti tu poder para modificar resultados biológicos e incrementar los beneficios de esta glándula\, te devuelve tu condición de cocreador con el UNO\, en perfección\, a través de la “Fuente Generadora” y así\, no sólo puedes transformar tu propia existencia\, sino\, irradiar ese estado para ayudar a tu entorno y a tus semejantes en este proceso de cambios que la humanidad está viviendo. Es la fórmula del origen devuelta a la humanidad. \nEl Método Cyclopea de Activación Interna de la Glándula Pineal se ha convertido en una herramienta valiosa para aquellos que buscan mejorar su calidad de vida\, aumentar su conciencia y conectar con su espiritualidad. A través de la práctica constante de esta técnica\, se pueden experimentar beneficios en la salud física\, mental y emocional\, así como en la vida espiritual y en la conexión con el universo.  \n \n[vc_row overlay_dotted=”” css=”.vc_custom_1579213139935{margin-top: 100px !important;margin-bottom: 100px !important;}”][vc_column][vc_column_text] \nMÓDULOS:\n\nLos asistentes son dotados de información fundamental para la recuperación de conceptos que se encuentran en la memoria celular\, además de entregar las herramientas y claves que prepararan la activación del programa y el acceso a los niveles de creación superior y de transformación creativa.[/vc_column_text]Primer Módulo[vc_column_text]Tiene un carácter teórico\, en donde el participante recibe una gran cantidad de información necesaria para el desarrollo de las experiencias prácticas dentro del taller. El objetivo de esta etapa es despertar al sabio sobre el intelecto\, introduciendo al participante a su memoria origen. \n\nIntroducción\nCambio de Switch\nQuiénes Somos\nMemoria humanidad v/s memoria del Origen\nConcepto de campo vibratorio atómico\nNecesidad de cambio de paradigma creativo\nActo Creativo y la Red Creativa Humanidad\nElevación del potencial del Equipo\nDispersión y unidad creativa\nGlándula pineal\nEmbudo Creativo\nAtención y aceptación.\nActivación de la Glándula Pineal\, Método Cyclopea (ejercicio)\n\n[/vc_column_text]Segundo Módulo[vc_column_text]Comprende el “Mapa de Ruta”\, que es un auto-diagnóstico energético respecto a la situación actual del participante para identificar los nudos creativos y de cómo han influido en sus resultados\, para luego proceder a su armonización y corrección; cuyos efectos pueden ser percibidos rápidamente.[/vc_column_text]Tercer Módulo[vc_column_text]Comprende la “Aplicación de la Pineal como Capacidad Sinestesica” a través de una dinámica de avance\, que permite a los sentidos físicos entrenarse hacia una experiencia creativa de acceso superior\, mediante la entrada a campos de comprensión que van más allá del 10% del uso cerebral o capacidad creativa\, y sus distintos usos específicos. Con estos ejercicios se define en permanencia un pasadizo de comunicación sensorial consciente disponible a los campos de transferencia de los modelos de perfección. Al finalizar las experiencias contenidas en este Método CYCLOPEA de activación interna de la glándula pineal\, el participante habrá adquirido herramientas trascendentales para su vida\, además de haber experimentado lo que se conoce como “cambios cuánticos” (no medibles) que serán el motor de su nuevo patrón creativo benéfico\, influyendo en sí mismo\, su entorno y el medioambiente. Al finalizar el Curso los participantes recibirán el día Lunes siguiente un mail de Bienvenida con audios relatados por la creadora del método\, Fresia Castro\, con el ejercicio de activación.[/vc_column_text][/vc_column][/vc_row] \n  \nDIRIGIDO A:\n\nProfesionales\nArtistas\nEmpresarios\nEstudiantes\nAmas de casa\nRepresentantes de organismos internacionales\nDe gobierno\n\n“Y a toda aquella persona que busca la auto-maestría\, el desarrollo humano y la expansión de la consciencia” \n\nBENEFICIOS DEL SEMINARIO\n\nActivación del circuito de Conexión Superior\nDisminuye el Estrés\, la Ansiedad y otras patologías al equilibrar nuestro Sistema Nervioso.\nRetarda el proceso de Envejecimiento\nFortalece el sistema inmune\nPotencia los estados de felicidad y equilibrio\nImpulsa los procesos de auto-maestría\nEstimula el sueño reparador\nDesarrolla las habilidades creativas propias de cada individuo\nEstimula la conexión de los hemisferios Cerebrales\nEnriquece la vida Onírica\nPermite la recuperación de nuestra Real Identidad y de nuestras Potencias Creativas Originales\ny más…. Descúbrelos!\n\n\n¿Dudas? Mándame un Whatsapp
URL:https://fresiacastro.cl/evento/seminario-de-activacion-interna-de-la-glandula-pineal-con-maritza-rodriguez-7/
LOCATION:Online\, Venezuela\, Venezuela
CATEGORIES:Online,Venezuela
ATTACH;FMTTYPE=image/jpeg:https://fresiacastro.cl/wp-content/uploads/2024/08/maritza-rodriguez.jpg
ORGANIZER;CN="Maritza Rodr%C3%ADguez":MAILTO:maritza@metodopineal.net
END:VEVENT
BEGIN:VEVENT
DTSTART;VALUE=DATE:20231202
DTEND;VALUE=DATE:20231204
DTSTAMP:20260421T155511
CREATED:20230831T145029Z
LAST-MODIFIED:20231108T202110Z
UID:10000203-1701475200-1701647999@fresiacastro.cl
SUMMARY:Todos parten\, ¿Podemos quedarnos? con Maritza Rodríguez
DESCRIPTION:“El último enemigo a vencer es la muerte” dijo Jesús. \nA través de este Taller\, nos vamos interiorizando cada vez más en un tema que para tantos seres resulta ser un tabú\, la muerte y sus dinámicas asociadas\, cómo es que ignoramos la gran oportunidad que se nos presenta en estos tiempos\, cómo podemos liberarnos definitivamente de los miedos y la ignorancia que le hemos asociado. \nDESCRIPCIÓN\n“Todos parten\, ¿Podemos quedarnos?” \nLa Caja atómica y los 7 niveles de interacción creativa\nLa memoria del origen y el gran trauma llamado “Muerte”.\nPrograma de defensa y el miedo al trauma original.\nDiferentes formas de salidas y entradas del escenario creativo.\nEstados devachánicos\, la reencarnación y la Ascensión. \n[vc_message message_box_style=”solid-icon” message_box_color=”purple”]Requisito: Seminario de Activación Interna de la Glándula Pineal[/vc_message]
URL:https://fresiacastro.cl/evento/todos-parten-podemos-quedarnos-3/
LOCATION:Online\, Venezuela\, Venezuela
CATEGORIES:Online
ATTACH;FMTTYPE=image/jpeg:https://fresiacastro.cl/wp-content/uploads/2023/08/INSTRUCTORAMARITZARODRIGUEZ.jpg
ORGANIZER;CN="Maritza Rodr%C3%ADguez":MAILTO:maritza@metodopineal.net
END:VEVENT
BEGIN:VEVENT
DTSTART;VALUE=DATE:20231111
DTEND;VALUE=DATE:20231113
DTSTAMP:20260421T155511
CREATED:20230831T145244Z
LAST-MODIFIED:20231109T223845Z
UID:10000204-1699660800-1699833599@fresiacastro.cl
SUMMARY:El Ser musical y la Sabiduría del Gesto con Maritza Rodríguez
DESCRIPTION:“La Música se ve y el Color se oye”\n \nRecuperar nuestras memorias\, el encendido de nuestro vehículo físico y ponerlo al servicio de procesos creadores mayores a través de la sabiduría del gesto\, son las principales herramientas que nos entrega este taller. \nDESCRIPCIÓN\nEn este taller tenemos acceso a la información del origen a través de una síntesis que se logra a partir del sonido\, del ritmo y del movimiento. El Ser se prepara para abrir sus memorias integrando el gran instrumento a través del cual se puede expresar y manifestar en este campo\, su vehículo físico. El conocerlo\, puede llevar a manifestaciones propias creativas de transformación\, si se cumple con las Leyes que cautelan los aspectos creativos del ser y su interacción con la creación toda y Superior. \nTodas las danzas sagradas o aquellas que representan una tradición o folklore\, al ser ejecutadas van a producir en el participante una adecuación energética base a la intención profunda del rito\, el que no será alcanzado en efecto ni expansión por los participantes sino en la medida en que ellos sepan el porqué de cada movimiento y lo acompañen con el alza de voltaje\, el poder de la atención y la aceptación por el sentimiento. \n[vc_message message_box_style=”solid-icon” message_box_color=”purple”]Requisito: Seminario de Activación Interna de la Glándula Pineal[/vc_message]
URL:https://fresiacastro.cl/evento/el-ser-musical-y-la-sabiduria-del-gesto-4/
LOCATION:Online\, Venezuela\, Venezuela
CATEGORIES:Online
ATTACH;FMTTYPE=image/jpeg:https://fresiacastro.cl/wp-content/uploads/2023/08/INSTRUCTORAMARITZARODRIGUEZ.jpg
ORGANIZER;CN="Maritza Rodr%C3%ADguez":MAILTO:maritza@metodopineal.net
END:VEVENT
END:VCALENDAR