BEGIN:VCALENDAR
VERSION:2.0
PRODID:-//Universo Fresia Castro - ECPv6.15.20//NONSGML v1.0//EN
CALSCALE:GREGORIAN
METHOD:PUBLISH
X-WR-CALNAME:Universo Fresia Castro
X-ORIGINAL-URL:https://fresiacastro.cl
X-WR-CALDESC:Eventos para Universo Fresia Castro
REFRESH-INTERVAL;VALUE=DURATION:PT1H
X-Robots-Tag:noindex
X-PUBLISHED-TTL:PT1H
BEGIN:VTIMEZONE
TZID:America/Santiago
BEGIN:STANDARD
TZOFFSETFROM:-0300
TZOFFSETTO:-0400
TZNAME:-04
DTSTART:20220403T030000
END:STANDARD
BEGIN:DAYLIGHT
TZOFFSETFROM:-0400
TZOFFSETTO:-0300
TZNAME:-03
DTSTART:20220911T040000
END:DAYLIGHT
BEGIN:STANDARD
TZOFFSETFROM:-0300
TZOFFSETTO:-0400
TZNAME:-04
DTSTART:20230402T030000
END:STANDARD
BEGIN:DAYLIGHT
TZOFFSETFROM:-0400
TZOFFSETTO:-0300
TZNAME:-03
DTSTART:20230903T040000
END:DAYLIGHT
BEGIN:STANDARD
TZOFFSETFROM:-0300
TZOFFSETTO:-0400
TZNAME:-04
DTSTART:20240407T030000
END:STANDARD
BEGIN:DAYLIGHT
TZOFFSETFROM:-0400
TZOFFSETTO:-0300
TZNAME:-03
DTSTART:20240908T040000
END:DAYLIGHT
BEGIN:STANDARD
TZOFFSETFROM:-0300
TZOFFSETTO:-0400
TZNAME:-04
DTSTART:20250406T030000
END:STANDARD
BEGIN:DAYLIGHT
TZOFFSETFROM:-0400
TZOFFSETTO:-0300
TZNAME:-03
DTSTART:20250907T040000
END:DAYLIGHT
END:VTIMEZONE
BEGIN:VEVENT
DTSTART;VALUE=DATE:20240210
DTEND;VALUE=DATE:20240212
DTSTAMP:20260422T181345
CREATED:20231219T221913Z
LAST-MODIFIED:20240214T210819Z
UID:10000169-1707523200-1707695999@fresiacastro.cl
SUMMARY:Seminario de Activación Interna de la Glándula Pineal Online con Concepción Suarez
DESCRIPTION:DESCRIPCIÓN\nEl Seminario de Activación Interna de la Glándula Pineal entrega al participante las bases para activar definitivamente su glándula pineal\, y obtener los beneficios del Método Cyclopea. \nLos asistentes son dotados de información fundamental para la recuperación de conceptos que se encuentran en la memoria celular\, además de entregar las herramientas y claves que prepararan la activación del programa y el acceso a los niveles de creación superior y de transformación creativa. \nDIRIGIDO A:\n\nProfesionales\nArtistas\nEmpresarios\nEstudiantes\nAmas de casa\nRepresentantes de organismos internacionales\nDe gobierno\n\nY a toda aquella persona que busca la auto-maestría\,\nel desarrollo humano y la expansión de la consciencia.
URL:https://fresiacastro.cl/evento/seminario-de-activacion-interna-de-la-glandula-pineal-online-con-concepcion-suarez/
LOCATION:ONLINE
CATEGORIES:Online
ATTACH;FMTTYPE=image/jpeg:https://fresiacastro.cl/wp-content/uploads/2023/07/CONCEPCIONSUAREZ.jpg
ORGANIZER;CN="Concepci%C3%B3n Suarez":MAILTO:info@tukairos.com
END:VEVENT
BEGIN:VEVENT
DTSTART;VALUE=DATE:20240203
DTEND;VALUE=DATE:20240205
DTSTAMP:20260422T181345
CREATED:20231219T064823Z
LAST-MODIFIED:20231219T064823Z
UID:10000167-1706918400-1707091199@fresiacastro.cl
SUMMARY:Seminario de Activación Interna de la Glándula Pineal con Concepción Suarez
DESCRIPTION:DESCRIPCIÓN\nEl Seminario de Activación Interna de la Glándula Pineal entrega al participante las bases para activar definitivamente su glándula pineal\, y obtener los beneficios del Método Cyclopea. \nLos asistentes son dotados de información fundamental para la recuperación de conceptos que se encuentran en la memoria celular\, además de entregar las herramientas y claves que prepararan la activación del programa y el acceso a los niveles de creación superior y de transformación creativa. \nDIRIGIDO A:\n\nProfesionales\nArtistas\nEmpresarios\nEstudiantes\nAmas de casa\nRepresentantes de organismos internacionales\nDe gobierno\n\nY a toda aquella persona que busca la auto-maestría\,\nel desarrollo humano y la expansión de la consciencia.
URL:https://fresiacastro.cl/evento/seminario-de-activacion-interna-de-la-glandula-pineal-con-concepcion-suarez-3/
LOCATION:Málaga
CATEGORIES:España
ATTACH;FMTTYPE=image/jpeg:https://fresiacastro.cl/wp-content/uploads/2023/07/CONCEPCIONSUAREZ.jpg
ORGANIZER;CN="Concepci%C3%B3n Suarez":MAILTO:info@tukairos.com
END:VEVENT
BEGIN:VEVENT
DTSTART;VALUE=DATE:20240127
DTEND;VALUE=DATE:20240129
DTSTAMP:20260422T181345
CREATED:20231219T064436Z
LAST-MODIFIED:20231219T065141Z
UID:10000166-1706313600-1706486399@fresiacastro.cl
SUMMARY:Seminario de Activación Interna de la Glándula Pineal Online con Concepción Suarez
DESCRIPTION:DESCRIPCIÓN\nEl Seminario de Activación Interna de la Glándula Pineal entrega al participante las bases para activar definitivamente su glándula pineal\, y obtener los beneficios del Método Cyclopea. \nLos asistentes son dotados de información fundamental para la recuperación de conceptos que se encuentran en la memoria celular\, además de entregar las herramientas y claves que prepararan la activación del programa y el acceso a los niveles de creación superior y de transformación creativa. \nDIRIGIDO A:\n\nProfesionales\nArtistas\nEmpresarios\nEstudiantes\nAmas de casa\nRepresentantes de organismos internacionales\nDe gobierno\n\nY a toda aquella persona que busca la auto-maestría\,\nel desarrollo humano y la expansión de la consciencia.
URL:https://fresiacastro.cl/evento/seminario-de-activacion-interna-de-la-glandula-pineal-con-concepcion-suarez-2/
LOCATION:Online\, España\, Spain
CATEGORIES:España,Online
ATTACH;FMTTYPE=image/jpeg:https://fresiacastro.cl/wp-content/uploads/2023/07/CONCEPCIONSUAREZ.jpg
ORGANIZER;CN="Concepci%C3%B3n Suarez":MAILTO:info@tukairos.com
END:VEVENT
BEGIN:VEVENT
DTSTART;VALUE=DATE:20240120
DTEND;VALUE=DATE:20240122
DTSTAMP:20260422T181345
CREATED:20231219T064110Z
LAST-MODIFIED:20231219T065318Z
UID:10000165-1705708800-1705881599@fresiacastro.cl
SUMMARY:Seminario de Activación Interna de la Glándula Pineal Online con Concepción Suarez
DESCRIPTION:DESCRIPCIÓN\nEl Seminario de Activación Interna de la Glándula Pineal entrega al participante las bases para activar definitivamente su glándula pineal\, y obtener los beneficios del Método Cyclopea. \nLos asistentes son dotados de información fundamental para la recuperación de conceptos que se encuentran en la memoria celular\, además de entregar las herramientas y claves que prepararan la activación del programa y el acceso a los niveles de creación superior y de transformación creativa. \nDIRIGIDO A:\n\nProfesionales\nArtistas\nEmpresarios\nEstudiantes\nAmas de casa\nRepresentantes de organismos internacionales\nDe gobierno\n\nY a toda aquella persona que busca la auto-maestría\,\nel desarrollo humano y la expansión de la consciencia.
URL:https://fresiacastro.cl/evento/seminario-de-activacion-interna-de-la-glandula-pineal-con-concepcion-suarez/
LOCATION:Online\, España\, Spain
CATEGORIES:España,Online
ATTACH;FMTTYPE=image/jpeg:https://fresiacastro.cl/wp-content/uploads/2023/07/CONCEPCIONSUAREZ.jpg
ORGANIZER;CN="Concepci%C3%B3n Suarez":MAILTO:info@tukairos.com
END:VEVENT
BEGIN:VEVENT
DTSTART;VALUE=DATE:20240113
DTEND;VALUE=DATE:20240115
DTSTAMP:20260422T181345
CREATED:20231219T063727Z
LAST-MODIFIED:20231219T065220Z
UID:10000164-1705104000-1705276799@fresiacastro.cl
SUMMARY:Seminario de Activación Interna de la Glándula Pineal Online con Concepción Suarez
DESCRIPTION:DESCRIPCIÓN\nEl Seminario de Activación Interna de la Glándula Pineal entrega al participante las bases para activar definitivamente su glándula pineal\, y obtener los beneficios del Método Cyclopea. \nLos asistentes son dotados de información fundamental para la recuperación de conceptos que se encuentran en la memoria celular\, además de entregar las herramientas y claves que prepararan la activación del programa y el acceso a los niveles de creación superior y de transformación creativa. \nDIRIGIDO A:\n\nProfesionales\nArtistas\nEmpresarios\nEstudiantes\nAmas de casa\nRepresentantes de organismos internacionales\nDe gobierno\n\nY a toda aquella persona que busca la auto-maestría\,\nel desarrollo humano y la expansión de la consciencia.
URL:https://fresiacastro.cl/evento/seminario-de-activacion-interna-de-la-glandula-pineal-con-concepcion-suarez-1/
LOCATION:Online\, España\, Spain
CATEGORIES:España,Online
ATTACH;FMTTYPE=image/jpeg:https://fresiacastro.cl/wp-content/uploads/2023/07/CONCEPCIONSUAREZ.jpg
ORGANIZER;CN="Concepci%C3%B3n Suarez":MAILTO:info@tukairos.com
END:VEVENT
BEGIN:VEVENT
DTSTART;VALUE=DATE:20231216
DTEND;VALUE=DATE:20231218
DTSTAMP:20260422T181345
CREATED:20230716T231758Z
LAST-MODIFIED:20231108T040727Z
UID:10000183-1702684800-1702857599@fresiacastro.cl
SUMMARY:Seminario de Activación Interna de la Glándula Pineal con Concepción Suarez
DESCRIPTION:DESCRIPCIÓN\nEl Seminario de Activación Interna de la Glándula Pineal entrega al participante las bases para activar definitivamente su glándula pineal\, y obtener los beneficios del Método Cyclopea. \nLos asistentes son dotados de información fundamental para la recuperación de conceptos que se encuentran en la memoria celular\, además de entregar las herramientas y claves que prepararan la activación del programa y el acceso a los niveles de creación superior y de transformación creativa. \nDIRIGIDO A:\n\nProfesionales\nArtistas\nEmpresarios\nEstudiantes\nAmas de casa\nRepresentantes de organismos internacionales\nDe gobierno\n\nY a toda aquella persona que busca la auto-maestría\,\nel desarrollo humano y la expansión de la consciencia.
URL:https://fresiacastro.cl/evento/seminario-de-activacion-interna-de-la-glandula-pineal-92/
LOCATION:Online\, España\, Spain
CATEGORIES:Online
ATTACH;FMTTYPE=image/jpeg:https://fresiacastro.cl/wp-content/uploads/2023/07/CONCEPCIONSUAREZ.jpg
ORGANIZER;CN="Concepci%C3%B3n Suarez":MAILTO:info@tukairos.com
END:VEVENT
BEGIN:VEVENT
DTSTART;VALUE=DATE:20231125
DTEND;VALUE=DATE:20231127
DTSTAMP:20260422T181345
CREATED:20230716T231747Z
LAST-MODIFIED:20231108T203216Z
UID:10000182-1700870400-1701043199@fresiacastro.cl
SUMMARY:Seminario de Activación Interna de la Glándula Pineal con Concepción Suarez
DESCRIPTION:DESCRIPCIÓN\nEl Seminario de Activación Interna de la Glándula Pineal entrega al participante las bases para activar definitivamente su glándula pineal\, y obtener los beneficios del Método Cyclopea. \nLos asistentes son dotados de información fundamental para la recuperación de conceptos que se encuentran en la memoria celular\, además de entregar las herramientas y claves que prepararan la activación del programa y el acceso a los niveles de creación superior y de transformación creativa. \nDIRIGIDO A:\n\nProfesionales\nArtistas\nEmpresarios\nEstudiantes\nAmas de casa\nRepresentantes de organismos internacionales\nDe gobierno\n\nY a toda aquella persona que busca la auto-maestría\,\nel desarrollo humano y la expansión de la consciencia.
URL:https://fresiacastro.cl/evento/seminario-de-activacion-interna-de-la-glandula-pineal-91/
LOCATION:Online\, España\, Spain
CATEGORIES:Online
ATTACH;FMTTYPE=image/jpeg:https://fresiacastro.cl/wp-content/uploads/2023/07/CONCEPCIONSUAREZ.jpg
ORGANIZER;CN="Concepci%C3%B3n Suarez":MAILTO:info@tukairos.com
END:VEVENT
BEGIN:VEVENT
DTSTART;VALUE=DATE:20231111
DTEND;VALUE=DATE:20231113
DTSTAMP:20260422T181345
CREATED:20230716T231320Z
LAST-MODIFIED:20231109T223545Z
UID:10000181-1699660800-1699833599@fresiacastro.cl
SUMMARY:Seminario de Activación Interna de la Glándula Pineal con Concepción Suarez
DESCRIPTION:DESCRIPCIÓN\nEl Seminario de Activación Interna de la Glándula Pineal entrega al participante las bases para activar definitivamente su glándula pineal\, y obtener los beneficios del Método Cyclopea. \nLos asistentes son dotados de información fundamental para la recuperación de conceptos que se encuentran en la memoria celular\, además de entregar las herramientas y claves que prepararan la activación del programa y el acceso a los niveles de creación superior y de transformación creativa. \nDIRIGIDO A:\n\nProfesionales\nArtistas\nEmpresarios\nEstudiantes\nAmas de casa\nRepresentantes de organismos internacionales\nDe gobierno\n\nY a toda aquella persona que busca la auto-maestría\,\nel desarrollo humano y la expansión de la consciencia.
URL:https://fresiacastro.cl/evento/seminario-de-activacion-interna-de-la-glandula-pineal-84/
LOCATION:Sevilla
CATEGORIES:España
ATTACH;FMTTYPE=image/jpeg:https://fresiacastro.cl/wp-content/uploads/2023/07/CONCEPCIONSUAREZ.jpg
ORGANIZER;CN="Concepci%C3%B3n Suarez":MAILTO:info@tukairos.com
END:VEVENT
END:VCALENDAR